BEGIN:VCALENDAR
VERSION:2.0
PRODID:-//Mambocha - ECPv6.15.20//NONSGML v1.0//EN
CALSCALE:GREGORIAN
METHOD:PUBLISH
X-WR-CALNAME:Mambocha
X-ORIGINAL-URL:https://mambocha.com
X-WR-CALDESC:Évènements pour Mambocha
REFRESH-INTERVAL;VALUE=DURATION:PT1H
X-Robots-Tag:noindex
X-PUBLISHED-TTL:PT1H
BEGIN:VTIMEZONE
TZID:Europe/Paris
BEGIN:DAYLIGHT
TZOFFSETFROM:+0100
TZOFFSETTO:+0200
TZNAME:CEST
DTSTART:20230326T010000
END:DAYLIGHT
BEGIN:STANDARD
TZOFFSETFROM:+0200
TZOFFSETTO:+0100
TZNAME:CET
DTSTART:20231029T010000
END:STANDARD
BEGIN:DAYLIGHT
TZOFFSETFROM:+0100
TZOFFSETTO:+0200
TZNAME:CEST
DTSTART:20240331T010000
END:DAYLIGHT
BEGIN:STANDARD
TZOFFSETFROM:+0200
TZOFFSETTO:+0100
TZNAME:CET
DTSTART:20241027T010000
END:STANDARD
BEGIN:DAYLIGHT
TZOFFSETFROM:+0100
TZOFFSETTO:+0200
TZNAME:CEST
DTSTART:20250330T010000
END:DAYLIGHT
BEGIN:STANDARD
TZOFFSETFROM:+0200
TZOFFSETTO:+0100
TZNAME:CET
DTSTART:20251026T010000
END:STANDARD
END:VTIMEZONE
BEGIN:VEVENT
DTSTART;TZID=Europe/Paris:20241027T150000
DTEND;TZID=Europe/Paris:20241027T160000
DTSTAMP:20260423T204026
CREATED:20241005T100653Z
LAST-MODIFIED:20241005T113022Z
UID:255125-1730041200-1730044800@mambocha.com
SUMMARY:Stage Bachata Dominicaine avec Estelle Ramos | 27.10.2024
DESCRIPTION:Stage Bachata Dominicaine \nDimanche 27 octobre 2024\nLaissez-vous emporter par les rythmes envoûtants et les pas sensuels de la bachata. Estelle vous fera découvrir la bachata dominicaine pure avec une initiation en couple et une initiation en Footwork (Jeux de jambes en solo). \nHoraires :\n14h00-15h30 \nNiveau :\nDébutant\nPour les personnes qui ne connaissent pas encore la bachata dominicaine ou qui ont quelques notions. \nTarif prévente (jusqu’au jeudi 24 octobre minuit) :\n20€ \nTarif réservation tardive :\n25€ \nRéservation :\nhttps://www.billetweb.fr/stage-bachata-dominicaine-debutant-oct2024 \nLieu :\nLoca’Dance – 971 route des quatre saisons – Galerie marchande de Fontvieille – 13190 Allauch\nParking gratuit 150 places\nStudios climatisés et parquetés. \nProchaines dates :\nVendredi 22 novembre 2024\nVendredi 13 décembre 2024\nSamedi 18 janvier 2025\nVendredi 28 février 2025\nSamedi 15 mars 2025\nSamedi 05 avril 2025
URL:https://mambocha.com/event/stage-bachata-dominicaine-avec-estelle-ramos-27-10-2024/
LOCATION:Loca Dance\, 971 route des quatre saisons\, Allauch\, 13190\, France
CATEGORIES:Bachata dominicaine,Evénements,Soirées
ATTACH;FMTTYPE=image/png:https://mambocha.com/wp-content/uploads/2024/10/Stage-Estelle-bachata.png
ORGANIZER;CN="Ecole Mambocha":MAILTO:info@mambocha.com
END:VEVENT
BEGIN:VEVENT
DTSTART;TZID=Europe/Paris:20241027T150000
DTEND;TZID=Europe/Paris:20241027T160000
DTSTAMP:20260423T204026
CREATED:20241112T203736Z
LAST-MODIFIED:20241112T203736Z
UID:255263-1730041200-1730044800@mambocha.com
SUMMARY:Stage Bachata Dominicaine avec Estelle Ramos | 22.11.2024
DESCRIPTION:Stage Bachata Dominicain\nVendredi 22 novembre 2024\nLaissez-vous emporter par les rythmes envoûtants et les pas sensuels de la bachata. Estelle vous fera découvrir la bachata dominicaine pure avec une initiation en couple et une initiation en Footwork (Jeux de jambes en solo). \nHoraires :20h00-21h30 \nNiveau :DébutantPour les personnes qui ne connaissent pas encore la bachata dominicaine ou qui ont quelques notions. \nTarif prévente (jusqu’au mercredi 20 novembre minuit) :20€ \nTarif réservation tardive :25€ \nRéservation :https://www.billetweb.fr/stage-bachata-dominicaine-ven-22-nov-2024 \nLieu :Loca’Dance – 971 route des quatre saisons – Galerie marchande de Fontvieille – 13190 AllauchParking gratuit 150 placesStudios climatisés et parquetés. \nProchaines dates :Vendredi 13 décembre 2024Samedi 18 janvier 2025Vendredi 28 février 2025Samedi 15 mars 2025Samedi 05 avril 2025
URL:https://mambocha.com/event/stage-bachata-dominicaine-avec-estelle-ramos-22-11-2024/
LOCATION:Loca Dance\, 971 route des quatre saisons\, Allauch\, 13190\, France
CATEGORIES:Bachata dominicaine,Evénements,Soirées
ATTACH;FMTTYPE=image/png:https://mambocha.com/wp-content/uploads/2024/10/Stage-Estelle-bachata.png
ORGANIZER;CN="Ecole Mambocha":MAILTO:info@mambocha.com
END:VEVENT
END:VCALENDAR