BEGIN:VCALENDAR
VERSION:2.0
PRODID:-//Mambocha - ECPv6.15.20//NONSGML v1.0//EN
CALSCALE:GREGORIAN
METHOD:PUBLISH
X-WR-CALNAME:Mambocha
X-ORIGINAL-URL:https://mambocha.com
X-WR-CALDESC:Évènements pour Mambocha
REFRESH-INTERVAL;VALUE=DURATION:PT1H
X-Robots-Tag:noindex
X-PUBLISHED-TTL:PT1H
BEGIN:VTIMEZONE
TZID:Europe/Paris
BEGIN:DAYLIGHT
TZOFFSETFROM:+0100
TZOFFSETTO:+0200
TZNAME:CEST
DTSTART:20240331T010000
END:DAYLIGHT
BEGIN:STANDARD
TZOFFSETFROM:+0200
TZOFFSETTO:+0100
TZNAME:CET
DTSTART:20241027T010000
END:STANDARD
BEGIN:DAYLIGHT
TZOFFSETFROM:+0100
TZOFFSETTO:+0200
TZNAME:CEST
DTSTART:20250330T010000
END:DAYLIGHT
BEGIN:STANDARD
TZOFFSETFROM:+0200
TZOFFSETTO:+0100
TZNAME:CET
DTSTART:20251026T010000
END:STANDARD
BEGIN:DAYLIGHT
TZOFFSETFROM:+0100
TZOFFSETTO:+0200
TZNAME:CEST
DTSTART:20260329T010000
END:DAYLIGHT
BEGIN:STANDARD
TZOFFSETFROM:+0200
TZOFFSETTO:+0100
TZNAME:CET
DTSTART:20261025T010000
END:STANDARD
END:VTIMEZONE
BEGIN:VEVENT
DTSTART;TZID=Europe/Paris:20250405T160000
DTEND;TZID=Europe/Paris:20250405T173000
DTSTAMP:20260423T104134
CREATED:20250312T150744Z
LAST-MODIFIED:20250324T083718Z
UID:255940-1743868800-1743874200@mambocha.com
SUMMARY:Stage Bachata Dominicaine avec Estelle Ramos | 05.04.2025
DESCRIPTION:Stage de Bachata Dominicaine avec Estelle Ramos \nSamedi 5 avril 2025Laissez-vous emporter par les rythmes envoûtants et les pas sensuels de la bachata. Estelle vous fera découvrir la bachata dominicaine pure avec une initiation en couple et une initiation en Footwork (Jeux de jambes en solo). \nHoraires :14h00-15h30 \nNiveau : Débutant\, Pour les personnes qui ne connaissent pas encore la bachata dominicaine ou qui ont quelques notions. \nTarif prévente (jusqu’au jeudi 3 avril minuit) : 20€ \nTarif réservation tardive : 25€ \nRéservation :https://www.billetweb.fr/stage-bachata-dominicaine-sam-5-avril-2025 \nLieu :Loca’Dance – 971 route des quatre saisons – Galerie marchande de Fontvieille – 13190 AllauchParking gratuit 150 placesStudios climatisés et parquetés.
URL:https://mambocha.com/event/stage-bachata-dominicaine-avec-estelle-ramos-05-04-2025/
LOCATION:Loca Dance\, 971 route des quatre saisons\, Allauch\, 13190\, France
CATEGORIES:Bachata dominicaine,Evénements,Stages
ORGANIZER;CN="Ecole Mambocha":MAILTO:info@mambocha.com
END:VEVENT
BEGIN:VEVENT
DTSTART;TZID=Europe/Paris:20250425T223000
DTEND;TZID=Europe/Paris:20250426T040000
DTSTAMP:20260423T104134
CREATED:20250312T154637Z
LAST-MODIFIED:20250324T092453Z
UID:255986-1745620200-1745640000@mambocha.com
SUMMARY:Soirée Salsa Bachata DJ Yonko – Greg | le 25.04.25
DESCRIPTION:Soirée Salsa Bachata\n20h30 – 21h30 : Cours évolutif de Bachata avec Greg.21h30 – 02h00 : Soirée Salsa Bachata avec DJ Yonko. \nTarifs soirée avec une conso soft :12 € en tarif normal10 € pour les adhérents Mambocha ou écoles partenaires (Rock’Caliente\, Instant Danse\, Buyanga) 2024/20258 € sur présentation de la carte étudiant \nLieu :Loca’Dance – Galerie marchande de Fontvieille971 Route des 4 Saisons13190 ALLAUCH \nParking gratuit de 150 placesSalle de 200 m² climatisée et avec parquet \nProchaines soirées SB :– Vendredi 16 mai 2025– Vendredi 14 juin 2025
URL:https://mambocha.com/event/soiree-salsa-bachata-dj-yonko-greg-le-25-04-25/
LOCATION:Loca Dance\, 971 route des quatre saisons\, Allauch\, 13190\, France
CATEGORIES:Bachata,Bachata dominicaine,Evénements,Soirées
ORGANIZER;CN="Ecole Mambocha":MAILTO:info@mambocha.com
END:VEVENT
END:VCALENDAR