BEGIN:VCALENDAR
VERSION:2.0
PRODID:-//Mambocha - ECPv6.15.20//NONSGML v1.0//EN
CALSCALE:GREGORIAN
METHOD:PUBLISH
X-WR-CALNAME:Mambocha
X-ORIGINAL-URL:https://mambocha.com
X-WR-CALDESC:Évènements pour Mambocha
REFRESH-INTERVAL;VALUE=DURATION:PT1H
X-Robots-Tag:noindex
X-PUBLISHED-TTL:PT1H
BEGIN:VTIMEZONE
TZID:Europe/Paris
BEGIN:DAYLIGHT
TZOFFSETFROM:+0100
TZOFFSETTO:+0200
TZNAME:CEST
DTSTART:20250330T010000
END:DAYLIGHT
BEGIN:STANDARD
TZOFFSETFROM:+0200
TZOFFSETTO:+0100
TZNAME:CET
DTSTART:20251026T010000
END:STANDARD
BEGIN:DAYLIGHT
TZOFFSETFROM:+0100
TZOFFSETTO:+0200
TZNAME:CEST
DTSTART:20260329T010000
END:DAYLIGHT
BEGIN:STANDARD
TZOFFSETFROM:+0200
TZOFFSETTO:+0100
TZNAME:CET
DTSTART:20261025T010000
END:STANDARD
BEGIN:DAYLIGHT
TZOFFSETFROM:+0100
TZOFFSETTO:+0200
TZNAME:CEST
DTSTART:20270328T010000
END:DAYLIGHT
BEGIN:STANDARD
TZOFFSETFROM:+0200
TZOFFSETTO:+0100
TZNAME:CET
DTSTART:20271031T010000
END:STANDARD
END:VTIMEZONE
BEGIN:VEVENT
DTSTART;TZID=Europe/Paris:20260619T180000
DTEND;TZID=Europe/Paris:20260619T200000
DTSTAMP:20260422T134611
CREATED:20260313T075729Z
LAST-MODIFIED:20260408T094555Z
UID:258281-1781892000-1781899200@mambocha.com
SUMMARY:Gala de Danses Sportives | le 19.06.26
DESCRIPTION:🎉 Mini Gala de Danses Sportives des élèves de Lucas ! 💃🕺\nNos danseuses ont travaillé avec enthousiasme et ont hâte de monter sur scène pour vous faire vibrer. Venez les encourager\, applaudir leurs progrès et partager un moment convivial et festif avec nous ! \n📅 Vendredi 19 juin 2026🕔 18h00 : Répétition✨ 19h00 : Début du spectacle et gouter de fin d’année \n📍 Loca’Dance971 route des 4 saisonsGalerie marchande de Fontvieille13190 Allauch \nToute l’équipe Mambocha sera ravie de vous accueillir pour ce mini gala plein de rythme et de bonne humeur.🎊 L’événement est gratuit et ouvert à tous\, sans limite de spectateurs : familles et proches sont les bienvenus pour venir encourager les danseuses. \nL’équipe Mambocha
URL:https://mambocha.com/event/gala-de-danses-sportives-le-19-06-26/
LOCATION:Loca Dance\, 971 route des quatre saisons\, Allauch\, 13190\, France
CATEGORIES:Danses de salon,Gala
ATTACH;FMTTYPE=image/jpeg:https://mambocha.com/wp-content/uploads/2026/03/2026-Gala-DS-Site.jpg
END:VEVENT
END:VCALENDAR