BEGIN:VCALENDAR
VERSION:2.0
PRODID:-//Mambocha - ECPv6.15.20//NONSGML v1.0//EN
CALSCALE:GREGORIAN
METHOD:PUBLISH
X-ORIGINAL-URL:https://mambocha.com
X-WR-CALDESC:Évènements pour Mambocha
REFRESH-INTERVAL;VALUE=DURATION:PT1H
X-Robots-Tag:noindex
X-PUBLISHED-TTL:PT1H
BEGIN:VTIMEZONE
TZID:Europe/Paris
BEGIN:DAYLIGHT
TZOFFSETFROM:+0100
TZOFFSETTO:+0200
TZNAME:CEST
DTSTART:20240331T010000
END:DAYLIGHT
BEGIN:STANDARD
TZOFFSETFROM:+0200
TZOFFSETTO:+0100
TZNAME:CET
DTSTART:20241027T010000
END:STANDARD
BEGIN:DAYLIGHT
TZOFFSETFROM:+0100
TZOFFSETTO:+0200
TZNAME:CEST
DTSTART:20250330T010000
END:DAYLIGHT
BEGIN:STANDARD
TZOFFSETFROM:+0200
TZOFFSETTO:+0100
TZNAME:CET
DTSTART:20251026T010000
END:STANDARD
BEGIN:DAYLIGHT
TZOFFSETFROM:+0100
TZOFFSETTO:+0200
TZNAME:CEST
DTSTART:20260329T010000
END:DAYLIGHT
BEGIN:STANDARD
TZOFFSETFROM:+0200
TZOFFSETTO:+0100
TZNAME:CET
DTSTART:20261025T010000
END:STANDARD
END:VTIMEZONE
BEGIN:VEVENT
DTSTART;TZID=Europe/Paris:20250503T230000
DTEND;TZID=Europe/Paris:20250504T040000
DTSTAMP:20260421T024707
CREATED:20250220T194601Z
LAST-MODIFIED:20250428T070341Z
UID:255839-1746313200-1746331200@mambocha.com
SUMMARY:Soirée Kizomba Manu Olivia | le 03.05.25
DESCRIPTION:Ce samedi 3 Mai c’est TON samedi 100% Kizomba ! Votre école de danse Mambocha nous dédie son parquet exclusivement pour danser la Kiz 🔥🔥🔥 \nUne édition 100% marseillaise avec un dresscode pour faire briller notre belle ville ✨ Dresscode : ALLEZ L’OM ! \n\n \n \n🅟🅡🅞🅖🅡🅐🅜🅜🅔 🅓🅔 🅛🅐 🅢🅞🅘🅡🅔🅔\n𝟐𝟏𝐡𝟎𝟎 – 𝟐𝟐𝐡𝟎𝟎  Cours Kizomba évolutif Olivia & Manu𝟐𝟐𝐡𝟎𝟎 –  𝟎𝟐𝐡𝟎𝟎   Soirée mixée par 𝑫𝑱 MH & 𝑫𝑱 MO \n \n \n Pour être au courant des informations de notre école\, des prochains stages et soirées\, vous pouvez rejoindre groupe whatsapp en cliquant ici :https://chat.whatsapp.com/FFMFks3xfZp9Ut4QKdgyat\n Pour les candidatures taxis :https://chat.whatsapp.com/FnZjj3xwE2L0RnzYX5uKcR\n \n \nTarifs 12€ – Un soft inclus 10€ – pour les adhérents et partenaires Mambocha – un soft inclus 8€ pour les étudiants – un soft inclusUn bar sera à votre disposition !\n \n \nAdresseMambocha971 Rte des 4 Saisons13190 Allauch
URL:https://mambocha.com/event/soiree-kizomba-manu-olivia-le-03-05-25/
LOCATION:Loca Dance\, 971 route des quatre saisons\, Allauch\, 13190\, France
CATEGORIES:Evénements,Kizomba,Soirées
ORGANIZER;CN="Ecole Mambocha":MAILTO:info@mambocha.com
END:VEVENT
END:VCALENDAR