BEGIN:VCALENDAR
VERSION:2.0
PRODID:-//Mambocha - ECPv6.15.20//NONSGML v1.0//EN
CALSCALE:GREGORIAN
METHOD:PUBLISH
X-ORIGINAL-URL:https://mambocha.com
X-WR-CALDESC:Évènements pour Mambocha
REFRESH-INTERVAL;VALUE=DURATION:PT1H
X-Robots-Tag:noindex
X-PUBLISHED-TTL:PT1H
BEGIN:VTIMEZONE
TZID:Europe/Paris
BEGIN:DAYLIGHT
TZOFFSETFROM:+0100
TZOFFSETTO:+0200
TZNAME:CEST
DTSTART:20240331T010000
END:DAYLIGHT
BEGIN:STANDARD
TZOFFSETFROM:+0200
TZOFFSETTO:+0100
TZNAME:CET
DTSTART:20241027T010000
END:STANDARD
BEGIN:DAYLIGHT
TZOFFSETFROM:+0100
TZOFFSETTO:+0200
TZNAME:CEST
DTSTART:20250330T010000
END:DAYLIGHT
BEGIN:STANDARD
TZOFFSETFROM:+0200
TZOFFSETTO:+0100
TZNAME:CET
DTSTART:20251026T010000
END:STANDARD
BEGIN:DAYLIGHT
TZOFFSETFROM:+0100
TZOFFSETTO:+0200
TZNAME:CEST
DTSTART:20260329T010000
END:DAYLIGHT
BEGIN:STANDARD
TZOFFSETFROM:+0200
TZOFFSETTO:+0100
TZNAME:CET
DTSTART:20261025T010000
END:STANDARD
END:VTIMEZONE
BEGIN:VEVENT
DTSTART;TZID=Europe/Paris:20250801T213000
DTEND;TZID=Europe/Paris:20250802T023000
DTSTAMP:20260420T221420
CREATED:20250728T183216Z
LAST-MODIFIED:20250728T183220Z
UID:257134-1754083800-1754101800@mambocha.com
SUMMARY:Soirée d'été SBK | le 01.08.25
DESCRIPTION:  \nSoirée d’été Salsa Bachata Kizomba\n19h30 – 20h30 : Cours Initiation à la Kizomba avec Manu et Olivia.20h30 – 00h00 : Soirée Salsa Bachata Kizomba avec DJ Zeki. \nEntrée libreClimatisationPiste parquet de 200m² \nLieu :Loca’Dance971 route des quatre saisonsGalerie marchande de Fontvieille13190 Allauch \nParking gratuit 150 places
URL:https://mambocha.com/event/soiree-dete-sbk-le-01-08-25/
LOCATION:Loca Dance\, 971 route des quatre saisons\, Allauch\, 13190\, France
CATEGORIES:Bachata,Evénements,Kizomba,Salsa Cubaine,Salsa Portoricaine,Soirées
ORGANIZER;CN="Ecole Mambocha":MAILTO:info@mambocha.com
END:VEVENT
END:VCALENDAR