BEGIN:VCALENDAR
VERSION:2.0
PRODID:-//Mambocha - ECPv6.15.20//NONSGML v1.0//EN
CALSCALE:GREGORIAN
METHOD:PUBLISH
X-WR-CALNAME:Mambocha
X-ORIGINAL-URL:https://mambocha.com
X-WR-CALDESC:Évènements pour Mambocha
REFRESH-INTERVAL;VALUE=DURATION:PT1H
X-Robots-Tag:noindex
X-PUBLISHED-TTL:PT1H
BEGIN:VTIMEZONE
TZID:Europe/Paris
BEGIN:DAYLIGHT
TZOFFSETFROM:+0100
TZOFFSETTO:+0200
TZNAME:CEST
DTSTART:20240331T010000
END:DAYLIGHT
BEGIN:STANDARD
TZOFFSETFROM:+0200
TZOFFSETTO:+0100
TZNAME:CET
DTSTART:20241027T010000
END:STANDARD
BEGIN:DAYLIGHT
TZOFFSETFROM:+0100
TZOFFSETTO:+0200
TZNAME:CEST
DTSTART:20250330T010000
END:DAYLIGHT
BEGIN:STANDARD
TZOFFSETFROM:+0200
TZOFFSETTO:+0100
TZNAME:CET
DTSTART:20251026T010000
END:STANDARD
BEGIN:DAYLIGHT
TZOFFSETFROM:+0100
TZOFFSETTO:+0200
TZNAME:CEST
DTSTART:20260329T010000
END:DAYLIGHT
BEGIN:STANDARD
TZOFFSETFROM:+0200
TZOFFSETTO:+0100
TZNAME:CET
DTSTART:20261025T010000
END:STANDARD
END:VTIMEZONE
BEGIN:VEVENT
DTSTART;TZID=Europe/Paris:20251017T230000
DTEND;TZID=Europe/Paris:20251018T040000
DTSTAMP:20260420T183646
CREATED:20250919T133233Z
LAST-MODIFIED:20251003T085930Z
UID:257281-1760742000-1760760000@mambocha.com
SUMMARY:Soirée Kizomba Manu Olivia | le 17.10.25
DESCRIPTION:Soirée 100% Kizomba\n21h00 – 22h00 : Cours Kizomba évolutif avec Charly & Morgane.22h00 – 02h00 : Soirée Kizomba avec DJ Saudade. \n\nUn vendredi comme on les aime : cours + soirée dans une ambiance conviviale \n\n\n Cours de kizomba avec Charly & Morgane – pédagogie\, bonne humeur et style garantis \n Dj Saudade aux platines – prépare-toi à danser sans t’arrêter tous les styles des soirées Kizomba \n\n \n\n Une soirée où tu vas apprendre\, progresser et surtout t’éclater sur la piste jusqu’au bout de la nuit !\n\nTarifs soirée avec une conso soft :12 € en tarif normal10 € pour les adhérents Mambocha ou écoles partenaires (Rock’Caliente\, Instant Danse\, Buyanga) 2025/20268 € sur présentation de la carte étudiant \nLieu :Loca’Dance – Galerie marchande de Fontvieille971 Route des 4 Saisons13190 ALLAUCH \nParking gratuit de 150 placesSalle de 200 m² climatisée et avec parquet
URL:https://mambocha.com/event/soiree-kizomba-manu-olivia-le-17-10-25/
LOCATION:Loca Dance\, 971 route des quatre saisons\, Allauch\, 13190\, France
CATEGORIES:Evénements,Kizomba,Soirées
ATTACH;FMTTYPE=image/jpeg:https://mambocha.com/wp-content/uploads/2025/09/2025-10-17-Kizomba-horiz-small.jpg
ORGANIZER;CN="Ecole Mambocha":MAILTO:info@mambocha.com
END:VEVENT
BEGIN:VEVENT
DTSTART;TZID=Europe/Paris:20251025T223000
DTEND;TZID=Europe/Paris:20251026T030000
DTSTAMP:20260420T183646
CREATED:20250919T133956Z
LAST-MODIFIED:20251003T090038Z
UID:257285-1761431400-1761447600@mambocha.com
SUMMARY:Soirée SBK DJ Yonko – Estelle Ramos | le 25.10.25
DESCRIPTION:Soirée Salsa Bachata Kizomba\n20h30 – 21h30 : Cours évolutif de Bachata Dominicaine avec Estelle Ramos.21h30 – 02h00 : Soirée SBK avec DJ Yonko. \nTarifs soirée avec une conso soft :12 € en tarif normal10 € pour les adhérents Mambocha ou écoles partenaires (Rock’Caliente\, Instant Danse\, Buyanga) 2025/20268 € sur présentation de la carte étudiant \nLieu :Loca’Dance – Galerie marchande de Fontvieille971 Route des 4 Saisons13190 ALLAUCH \nParking gratuit de 150 placesSalle de 200 m² climatisée et avec parquet
URL:https://mambocha.com/event/soiree-sbk-dj-yonko-estelle-ramos-le-25-10-25/
LOCATION:Loca Dance\, 971 route des quatre saisons\, Allauch\, 13190\, France
CATEGORIES:Bachata,Bachata dominicaine,Evénements,Kizomba,Salsa Cubaine,Salsa Portoricaine,Soirées
ATTACH;FMTTYPE=image/webp:https://mambocha.com/wp-content/uploads/2025/09/2025-10-25-SBK.webp
ORGANIZER;CN="Ecole Mambocha":MAILTO:info@mambocha.com
END:VEVENT
END:VCALENDAR