BEGIN:VCALENDAR
VERSION:2.0
PRODID:-//Mambocha - ECPv6.15.20//NONSGML v1.0//EN
CALSCALE:GREGORIAN
METHOD:PUBLISH
X-WR-CALNAME:Mambocha
X-ORIGINAL-URL:https://mambocha.com
X-WR-CALDESC:Évènements pour Mambocha
REFRESH-INTERVAL;VALUE=DURATION:PT1H
X-Robots-Tag:noindex
X-PUBLISHED-TTL:PT1H
BEGIN:VTIMEZONE
TZID:Europe/Paris
BEGIN:DAYLIGHT
TZOFFSETFROM:+0100
TZOFFSETTO:+0200
TZNAME:CEST
DTSTART:20250330T010000
END:DAYLIGHT
BEGIN:STANDARD
TZOFFSETFROM:+0200
TZOFFSETTO:+0100
TZNAME:CET
DTSTART:20251026T010000
END:STANDARD
BEGIN:DAYLIGHT
TZOFFSETFROM:+0100
TZOFFSETTO:+0200
TZNAME:CEST
DTSTART:20260329T010000
END:DAYLIGHT
BEGIN:STANDARD
TZOFFSETFROM:+0200
TZOFFSETTO:+0100
TZNAME:CET
DTSTART:20261025T010000
END:STANDARD
BEGIN:DAYLIGHT
TZOFFSETFROM:+0100
TZOFFSETTO:+0200
TZNAME:CEST
DTSTART:20270328T010000
END:DAYLIGHT
BEGIN:STANDARD
TZOFFSETFROM:+0200
TZOFFSETTO:+0100
TZNAME:CET
DTSTART:20271031T010000
END:STANDARD
END:VTIMEZONE
BEGIN:VEVENT
DTSTART;TZID=Europe/Paris:20260307T203000
DTEND;TZID=Europe/Paris:20260308T030000
DTSTAMP:20260420T103452
CREATED:20251113T124927Z
LAST-MODIFIED:20260306T115703Z
UID:257651-1772915400-1772938800@mambocha.com
SUMMARY:Soirée Kizomba Manu Olivia + Stage Jesus & Anni | le 07.03.26
DESCRIPTION:Soirée 100% Kizomba + StageSamedi 7 mars\n\nCe samedi 7 Mars c’est TON samedi 100% Kizomba !Votre école de danse Mambocha nous dédie son parquet exclusivement pour danser la Kiz\n Nous recevons ce mois-ci JESUS e ANNI !Ils ont tout d’abord séduit l’Espagne\, puis le monde. Un style unique et une élégance affirmée.C’est un stage exceptionnel qui vous attend ce samedi 7 Mars !!\n A leurs côtés\, vous retrouverez OLIVIA & MANU qui déploient toutes leurs énergies pour participer à l’évolution et à la progression de la Kizomba dans notre région.\nLors de ce stage\, vous pourrez vous amuser\, apprendre\, et vous épanouir grâce la pédagogie et la simplicité des intervenants \n Pour la soirée\, vous retrouverez sur deux salles\, un espace urban kiz et fusion ainsi qu’un espace kizomba et semba Aux platines\, il vient de Paris\, c’est Puto X\, Dj\, chanteur et beatmaker\, on peut dire qu’il a toutes les cartes pour vous faire vibrer !Accompagné par DJ MO et DJ SAUDADE\, il semblerait que cette soirée sera inoubliable !\n \n   PROGRAMME   \n19h30 / 20h00 – Inscriptions\n20h00 / 22h00 – Stage intensif kizomba fusion avec Jesus et Anni\n22h00 / 04h00 – soirée mixée par DJ MO & DJ SAUDADE & DJ PUTO X sur 2 salles 2 ambiances.\nEn espérant que ce beau programme vous fasse plaisir !\n \n   TARIFS   Les différentes formules :\n Solo : Stage de 2h + Soirée = 60e\n Couple\, leader + follower : Stage de 2h + Soirée = 110e\n Soirée : Entrée pour la soirée sur deux salles et votre boisson : 15e\nVos pass sont disponibles à la réservation sur ce lien :https://urlr.me/NchEkP\n Aucun remboursement ne sera possible en cas d’annulation. Il n’y aura pas de cours de soirée. Uniquement un stage. Pour réserver votre place au stage\, veuillez vous inscrire sur ce lien.\n \n Adresse :Mambocha 971 route des 4 saisons 13190 – Allauch\n\nParking gratuit de 150 placesSalle de 200 m² climatisée et avec parquet \nProchaines dates : Samedi 4 avril 2026Samedi 2 mai 2026
URL:https://mambocha.com/event/soiree-kizomba-manu-olivia-le-07-03-26/
LOCATION:Loca Dance\, 971 route des quatre saisons\, Allauch\, 13190\, France
CATEGORIES:Evénements,Kizomba,Soirées
ATTACH;FMTTYPE=image/jpeg:https://mambocha.com/wp-content/uploads/2025/11/2026-03-07-Kizomba-small.jpg
ORGANIZER;CN="Ecole Mambocha":MAILTO:info@mambocha.com
END:VEVENT
END:VCALENDAR