BEGIN:VCALENDAR
VERSION:2.0
PRODID:-//Mambocha - ECPv6.15.20//NONSGML v1.0//EN
CALSCALE:GREGORIAN
METHOD:PUBLISH
X-ORIGINAL-URL:https://mambocha.com
X-WR-CALDESC:Évènements pour Mambocha
REFRESH-INTERVAL;VALUE=DURATION:PT1H
X-Robots-Tag:noindex
X-PUBLISHED-TTL:PT1H
BEGIN:VTIMEZONE
TZID:Europe/Paris
BEGIN:DAYLIGHT
TZOFFSETFROM:+0100
TZOFFSETTO:+0200
TZNAME:CEST
DTSTART:20250330T010000
END:DAYLIGHT
BEGIN:STANDARD
TZOFFSETFROM:+0200
TZOFFSETTO:+0100
TZNAME:CET
DTSTART:20251026T010000
END:STANDARD
BEGIN:DAYLIGHT
TZOFFSETFROM:+0100
TZOFFSETTO:+0200
TZNAME:CEST
DTSTART:20260329T010000
END:DAYLIGHT
BEGIN:STANDARD
TZOFFSETFROM:+0200
TZOFFSETTO:+0100
TZNAME:CET
DTSTART:20261025T010000
END:STANDARD
BEGIN:DAYLIGHT
TZOFFSETFROM:+0100
TZOFFSETTO:+0200
TZNAME:CEST
DTSTART:20270328T010000
END:DAYLIGHT
BEGIN:STANDARD
TZOFFSETFROM:+0200
TZOFFSETTO:+0100
TZNAME:CET
DTSTART:20271031T010000
END:STANDARD
END:VTIMEZONE
BEGIN:VEVENT
DTSTART;TZID=Europe/Paris:20260502T210000
DTEND;TZID=Europe/Paris:20260503T020000
DTSTAMP:20260420T103730
CREATED:20251113T125526Z
LAST-MODIFIED:20260414T114445Z
UID:257664-1777755600-1777773600@mambocha.com
SUMMARY:Soirée Kizomba Manu Olivia | le 02.05.26
DESCRIPTION:Soirée 100% Kizomba\nCe samedi 2 Mai c’est TON samedi 100% Kizomba ! Votre école de danse Mambocha nous dédie son parquet exclusivement pour danser la Kiz  \n\nUne édition spéciale printemps pour célébrer les beaux jours dans un dresscode spécial couleurs pastels ! Lâche toi sur tes couleurs de la tête aux pieds.\n SCOOP Elle est bien là et opérationnelle : 2eme salle authentique  \nRejoignez-nous pour une soirée inoubliable\, entièrement consacrée à la Kizomba. Que vous soyez un danseur expérimenté ou que vous souhaitiez découvrir cette danse si spéciale pour la première fois\, MIRAGEM\, c’est l’occasion parfaite pour vous imprégner de cette culture qui ne vous quittera plus.Viens danser avec ton partenaire ou explore de nouvelles connexions avec d’autres danseurs passionnés. Tu peux venir aussi bien seul qu’accompagné !Nos professeurs expérimentés vous guideront lors de leur cours\, en vous enseignant les mouvements et les techniques de connexion qui font la beauté de notre danse.\n \n🅟🅡🅞🅖🅡🅐🅜🅜🅔 🅓🅔 🅛🅐 🅢🅞🅘🅡🅔🅔\n𝟐𝟏𝐡𝟎𝟎 – 𝟐𝟐𝐡𝟎𝟎  Cours évolutif de kizomba avec Olivia & Manu𝟐𝟐𝐡𝟎𝟎 – 𝟎𝟐𝐡𝟎𝟎 : Soirée mixée par 𝑫𝑱 SAUDADE X 𝑫𝑱 MO X 𝑫𝑱 AYA \n \n Deux salles\, deux ambiances\, 100% Kiz \n Pour être au courant des informations de notre école\, des prochains stages et soirées\, vous pouvez rejoindre groupe whatsapp en cliquant ici :https://chat.whatsapp.com/JA7IUea3GShC2FWjHEMMMi\n \n \nTarifs 12€ – Un soft inclus 10€ – pour les adhérents et partenaires Mambocha – un soft inclus 8€ pour les étudiants – un soft inclusUn bar sera à votre disposition !\nLieu :Loca’Dance – Galerie marchande de Fontvieille971 Route des 4 Saisons13190 ALLAUCH \nParking gratuit de 150 placesSalle de 200 m² climatisée et avec parquet
URL:https://mambocha.com/event/soiree-kizomba-manu-olivia-le-02-05-26/
LOCATION:Loca Dance\, 971 route des quatre saisons\, Allauch\, 13190\, France
CATEGORIES:Evénements,Kizomba,Soirées
ATTACH;FMTTYPE=image/jpeg:https://mambocha.com/wp-content/uploads/2025/11/2026-05-02-Kizomba.jpg
ORGANIZER;CN="Ecole Mambocha":MAILTO:info@mambocha.com
END:VEVENT
END:VCALENDAR