BEGIN:VCALENDAR
VERSION:2.0
PRODID:-//Mambocha - ECPv6.15.20//NONSGML v1.0//EN
CALSCALE:GREGORIAN
METHOD:PUBLISH
X-WR-CALNAME:Mambocha
X-ORIGINAL-URL:https://mambocha.com
X-WR-CALDESC:Évènements pour Mambocha
REFRESH-INTERVAL;VALUE=DURATION:PT1H
X-Robots-Tag:noindex
X-PUBLISHED-TTL:PT1H
BEGIN:VTIMEZONE
TZID:Europe/Paris
BEGIN:DAYLIGHT
TZOFFSETFROM:+0100
TZOFFSETTO:+0200
TZNAME:CEST
DTSTART:20240331T010000
END:DAYLIGHT
BEGIN:STANDARD
TZOFFSETFROM:+0200
TZOFFSETTO:+0100
TZNAME:CET
DTSTART:20241027T010000
END:STANDARD
BEGIN:DAYLIGHT
TZOFFSETFROM:+0100
TZOFFSETTO:+0200
TZNAME:CEST
DTSTART:20250330T010000
END:DAYLIGHT
BEGIN:STANDARD
TZOFFSETFROM:+0200
TZOFFSETTO:+0100
TZNAME:CET
DTSTART:20251026T010000
END:STANDARD
BEGIN:DAYLIGHT
TZOFFSETFROM:+0100
TZOFFSETTO:+0200
TZNAME:CEST
DTSTART:20260329T010000
END:DAYLIGHT
BEGIN:STANDARD
TZOFFSETFROM:+0200
TZOFFSETTO:+0100
TZNAME:CET
DTSTART:20261025T010000
END:STANDARD
END:VTIMEZONE
BEGIN:VEVENT
DTSTART;TZID=Europe/Paris:20250427T150000
DTEND;TZID=Europe/Paris:20250427T220000
DTSTAMP:20260424T080921
CREATED:20250324T093844Z
LAST-MODIFIED:20250325T074108Z
UID:256053-1745766000-1745791200@mambocha.com
SUMMARY:Après-midi Lindy avec Cathy & rémy | 27.04.2025
DESCRIPTION:Aprés-midi Lindy Hop avec un stage de Shim Sham\n13h00 – 15h00 : Stage de Shim Sham avec Cathy & Rémy15h00 – 20h00 : Pratique 100% Lindy hop DJ Fradé \nShim Sham est une « routine » (c’est à dire une chorégraphie) de danse en ligne\, connue à travers le monde\, et dansée à presque tous les bals sur certains morceaux phare de swing.A l’origine\, le shim sham était une petite chorégraphie simple de claquettes\, dansée par l’ensemble des artistes à la fin des vaudevilles. Elle a été modifiée\, complétée\, complexifiée ou simplifiée au fur et à mesure des années et des époques : il existe plus d’une dizaine de « shim-sham » différents !Dans ce stage nous apprendrons une version de Frankie Manning\, la plus populaire dans la communauté des Lindy-Hoppers. \nTarifs :\n25 € pour le stage et la pratique Lindy hop : Pensez à vous inscrire : https://www.billetweb.fr/stage-de-shim-sham-27-04-2025 \nPour la pratique Lindy hop\, pas de réservation : 5 € pour les adhérents Mambocha\, Swing Hop et Rock’Caliente 2024/20257 € pour les extérieurs \nBoissons soft offertes.Apporte un salé ou un sucré.On danse on échange on grignote en toute convivialité. De quoi passer un bon moment  \nContact : Cathy 06 12 53 85 15 \nLieu :\nLoca’Dance – Galerie marchande de Fontvieille971 Route des 4 Saisons13190 ALLAUCH \nParking gratuit de 150 placesSalle de 200 m² climatisée et avec parquet
URL:https://mambocha.com/event/apres-midi-lindy-avec-cathy-remy-27-04-2025/
LOCATION:Loca Dance\, 971 route des quatre saisons\, Allauch\, 13190\, France
CATEGORIES:Après-midi,Lindy,Soirées
END:VEVENT
END:VCALENDAR