BEGIN:VCALENDAR
VERSION:2.0
PRODID:-//Mambocha - ECPv6.15.20//NONSGML v1.0//EN
CALSCALE:GREGORIAN
METHOD:PUBLISH
X-WR-CALNAME:Mambocha
X-ORIGINAL-URL:https://mambocha.com
X-WR-CALDESC:Évènements pour Mambocha
REFRESH-INTERVAL;VALUE=DURATION:PT1H
X-Robots-Tag:noindex
X-PUBLISHED-TTL:PT1H
BEGIN:VTIMEZONE
TZID:Europe/Paris
BEGIN:DAYLIGHT
TZOFFSETFROM:+0100
TZOFFSETTO:+0200
TZNAME:CEST
DTSTART:20240331T010000
END:DAYLIGHT
BEGIN:STANDARD
TZOFFSETFROM:+0200
TZOFFSETTO:+0100
TZNAME:CET
DTSTART:20241027T010000
END:STANDARD
BEGIN:DAYLIGHT
TZOFFSETFROM:+0100
TZOFFSETTO:+0200
TZNAME:CEST
DTSTART:20250330T010000
END:DAYLIGHT
BEGIN:STANDARD
TZOFFSETFROM:+0200
TZOFFSETTO:+0100
TZNAME:CET
DTSTART:20251026T010000
END:STANDARD
BEGIN:DAYLIGHT
TZOFFSETFROM:+0100
TZOFFSETTO:+0200
TZNAME:CEST
DTSTART:20260329T010000
END:DAYLIGHT
BEGIN:STANDARD
TZOFFSETFROM:+0200
TZOFFSETTO:+0100
TZNAME:CET
DTSTART:20261025T010000
END:STANDARD
END:VTIMEZONE
BEGIN:VEVENT
DTSTART;TZID=Europe/Paris:20251114T140000
DTEND;TZID=Europe/Paris:20251116T210000
DTSTAMP:20260423T190523
CREATED:20250324T114932Z
LAST-MODIFIED:20250324T115347Z
UID:256076-1763128800-1763326800@mambocha.com
SUMMARY:Swing Fest #4 | 14 au 16.11.2025
DESCRIPTION:Swing Fest #4\nRémy et Cathy sont en train de préparer l’édition 2025 du Swing Fest !Save the date : Du 14 au 16 novembre 2025 !Les infos arrivent bientôt ! \nPlus d’infos ici. \nLieu :Loca’Dance – Galerie marchande de Fontvieille971 Route des 4 Saisons13190 ALLAUCH \nParking gratuit de 150 placesSalle de 200 m² climatisée et avec parquet
URL:https://mambocha.com/event/swing-fest-4-14-au-16-11-2025/
LOCATION:Loca Dance\, 971 route des quatre saisons\, Allauch\, 13190\, France
CATEGORIES:Après-midi,Evénements,Lindy,Soirées,Stages
END:VEVENT
BEGIN:VEVENT
DTSTART;TZID=Europe/Paris:20251114T213000
DTEND;TZID=Europe/Paris:20251115T003000
DTSTAMP:20260423T190523
CREATED:20251029T162556Z
LAST-MODIFIED:20251029T162601Z
UID:257470-1763155800-1763166600@mambocha.com
SUMMARY:Soirée Swing Fest #4 | 14.11.2025
DESCRIPTION:Soirée Swing Fest #4\nDans le cadre du Swing Fest nous vous proposons une grande soirée Lindy Hop & Boogie Woogie ! \n20h30-21h30 Cours Solo Swing avec Nelly et Lucas21h30-02h00 Soirée mixée par DJ Mama \nTarifs :12 € en tarif normal10 € en tarif adhérent8 € sur présentation de la carte étudiant \nVestiaires :1€ par personne (non obligatoire mais fortement conseillé). L’organisation décline toute responsabilité en cas de vol ou de perte de tout objet qui n’aurait pas été mis au vestiaire surveillé. \nLieu :Loca’Dance – Galerie marchande de Fontvieille971 Route des 4 Saisons13190 ALLAUCH \nParking gratuit de 150 placesSalle de 200 m² climatisée et avec parquet
URL:https://mambocha.com/event/soiree-swing-fest-4-14-11-2025/
LOCATION:Loca Dance\, 971 route des quatre saisons\, Allauch\, 13190\, France
CATEGORIES:Evénements,Lindy,Soirées,Swing
ATTACH;FMTTYPE=image/jpeg:https://mambocha.com/wp-content/uploads/2025/10/2025-11-14-SoireeSwingFest.jpg
END:VEVENT
BEGIN:VEVENT
DTSTART;TZID=Europe/Paris:20251115T213000
DTEND;TZID=Europe/Paris:20251116T003000
DTSTAMP:20260423T190523
CREATED:20251029T162620Z
LAST-MODIFIED:20251029T162624Z
UID:257477-1763242200-1763253000@mambocha.com
SUMMARY:Soirée Swing Fest #4 | 15.11.2025
DESCRIPTION:Soirée Swing Fest #4\nDans le cadre du Swing Fest nous vous proposons une grande soirée Lindy Hop & Boogie Woogie avec Concert + DJ ! \n20h30-21h30 Cours Musicalité avec Nelly et Lucas21h30-02h00 Soirée concert avec l’orchestre « Harlem Serenaders » et DJ Mama \nTarifs :22 € en tarif normal20 € en tarif adhérent15 € sur présentation de la carte étudiant \nVestiaires :1€ par personne (non obligatoire mais fortement conseillé). L’organisation décline toute responsabilité en cas de vol ou de perte de tout objet qui n’aurait pas été mis au vestiaire surveillé. \nLieu :Loca’Dance – Galerie marchande de Fontvieille971 Route des 4 Saisons13190 ALLAUCH \nParking gratuit de 150 placesSalle de 200 m² climatisée et avec parquet
URL:https://mambocha.com/event/soiree-swing-fest-4-15-11-2025/
LOCATION:Loca Dance\, 971 route des quatre saisons\, Allauch\, 13190\, France
CATEGORIES:Evénements,Lindy,Soirées,Swing
ATTACH;FMTTYPE=image/jpeg:https://mambocha.com/wp-content/uploads/2025/10/2025-11-15-SoireeSwingFest.jpg
END:VEVENT
END:VCALENDAR