BEGIN:VCALENDAR
VERSION:2.0
PRODID:-//Mambocha - ECPv6.15.20//NONSGML v1.0//EN
CALSCALE:GREGORIAN
METHOD:PUBLISH
X-ORIGINAL-URL:https://mambocha.com
X-WR-CALDESC:Évènements pour Mambocha
REFRESH-INTERVAL;VALUE=DURATION:PT1H
X-Robots-Tag:noindex
X-PUBLISHED-TTL:PT1H
BEGIN:VTIMEZONE
TZID:Europe/Paris
BEGIN:DAYLIGHT
TZOFFSETFROM:+0100
TZOFFSETTO:+0200
TZNAME:CEST
DTSTART:20240331T010000
END:DAYLIGHT
BEGIN:STANDARD
TZOFFSETFROM:+0200
TZOFFSETTO:+0100
TZNAME:CET
DTSTART:20241027T010000
END:STANDARD
BEGIN:DAYLIGHT
TZOFFSETFROM:+0100
TZOFFSETTO:+0200
TZNAME:CEST
DTSTART:20250330T010000
END:DAYLIGHT
BEGIN:STANDARD
TZOFFSETFROM:+0200
TZOFFSETTO:+0100
TZNAME:CET
DTSTART:20251026T010000
END:STANDARD
BEGIN:DAYLIGHT
TZOFFSETFROM:+0100
TZOFFSETTO:+0200
TZNAME:CEST
DTSTART:20260329T010000
END:DAYLIGHT
BEGIN:STANDARD
TZOFFSETFROM:+0200
TZOFFSETTO:+0100
TZNAME:CET
DTSTART:20261025T010000
END:STANDARD
END:VTIMEZONE
BEGIN:VEVENT
DTSTART;TZID=Europe/Paris:20250314T213000
DTEND;TZID=Europe/Paris:20250315T030000
DTSTAMP:20260423T083305
CREATED:20250221T115850Z
LAST-MODIFIED:20250221T123418Z
UID:255861-1741987800-1742007600@mambocha.com
SUMMARY:Soirée Rock – Audrey | le 14.03.25
DESCRIPTION: \nSoirée Rock\n20h30 – 21h30 : Cours rock débutant évolutif avec Audrey21h30 – 02h00 : Soirée Rock avec DJ Audrey. \nTarifs soirée avec une conso soft :12 € en tarif normal10€ pour les adhérents Mambocha 2024/2025 et partenaires (Rock Caliente\, Instant Danse)8 € sur présentation de la carte étudiant \nLieu :Loca’Dance – Galerie marchande de Fontvieille971 Route des 4 Saisons13190 ALLAUCH \nParking gratuit de 150 placesSalle de 200 m² climatisée et avec parquet \nProchaines soirées Rock :Samedi 26 avril 2025Samedi 24 mai 2025Vendredi 20 juin 2025
URL:https://mambocha.com/event/soiree-rock-audrey-le-14-03-25/
LOCATION:Loca Dance\, 971 route des quatre saisons\, Allauch\, 13190\, France
CATEGORIES:Evénements,Rock,Soirées
ORGANIZER;CN="Ecole Mambocha":MAILTO:info@mambocha.com
END:VEVENT
BEGIN:VEVENT
DTSTART;TZID=Europe/Paris:20250330T120000
DTEND;TZID=Europe/Paris:20250330T170000
DTSTAMP:20260423T083305
CREATED:20250127T125158Z
LAST-MODIFIED:20250127T125410Z
UID:255725-1743336000-1743354000@mambocha.com
SUMMARY:Stage de Rock Révision du 2°Trimestre | 30.03.2025
DESCRIPTION:Stages de Rock – Révision du 2° Trimestre avec Audrey et MatthieuDimanche 30 mars 2025 \nVenez réviser toutes les passes du 2° Trimestre en 2 heures seulement !10h00 – 12h00 : Rock Débutant13h00 – 15h00 : Rock Intermédiaire \nPensez à arriver 15 minutes avant le début du stage. \nTarifs :22 € le stage de 2h si vous réservez et réglez au moins 2 jours avant (jusqu’au jeudi 27 mars à minuit).Sinon +5€ sur place\, sous réserve de places disponibles. \nAttention\, le nombre de places est limité ! \nPour les personnes qui n’ont pas réservé\, l’inscription se fera en fonction des places disponibles. \nRéservation avec règlement obligatoire :* Par CB sur la billetterie Billetweb : https://www.billetweb.fr/stages-de-rock-revisions-t2-2025 \n* Par un autre moyen de paiement (chèque à l’ordre de Mambocha\, espèces\, ANCV\, Coupons sports)\, directement auprès de votre professeur avant le jeudi 27 mars. Merci de préciser sur papier libre vos coordonnées (Nom\, Prénom\, adresse\, portable\, mail) et le(s) stage(s) que vous avez choisi(s). \nInformations pratiques :Les stages se déroulent dans l’école Loca’Dance : 971 Route des 4 Saisons – Galerie Marchande de Fontvieille – 13190 ALLAUCH \nLoca’Dance est une école de 400 m² située entre Marseille et Allauch dans un écrin de verdure. Equipée de 3 studios de danse lumineux\, parquetés et climatisés\, vous prendrez plaisir à vous perfectionner ou à apprendre vos premiers pas de danse. Avec son accueil et coin détente (distributeur de boissons chaudes et froides et friandises)\, ses vestiaires et son parking (150 places gratuites) elle est sans doute l’une des écoles les plus agréables et fonctionnelles de la région. \ninfo@mambocha.com – 07 71 28 08 48
URL:https://mambocha.com/event/stage-de-rock-revision-du-2trimestre-30-03-2025/
LOCATION:Loca Dance\, 971 route des quatre saisons\, Allauch\, 13190\, France
CATEGORIES:Après-midi,Rock,Stages
END:VEVENT
END:VCALENDAR