BEGIN:VCALENDAR
VERSION:2.0
PRODID:-//Mambocha - ECPv6.15.20//NONSGML v1.0//EN
CALSCALE:GREGORIAN
METHOD:PUBLISH
X-WR-CALNAME:Mambocha
X-ORIGINAL-URL:https://mambocha.com
X-WR-CALDESC:Évènements pour Mambocha
REFRESH-INTERVAL;VALUE=DURATION:PT1H
X-Robots-Tag:noindex
X-PUBLISHED-TTL:PT1H
BEGIN:VTIMEZONE
TZID:Europe/Paris
BEGIN:DAYLIGHT
TZOFFSETFROM:+0100
TZOFFSETTO:+0200
TZNAME:CEST
DTSTART:20250330T010000
END:DAYLIGHT
BEGIN:STANDARD
TZOFFSETFROM:+0200
TZOFFSETTO:+0100
TZNAME:CET
DTSTART:20251026T010000
END:STANDARD
BEGIN:DAYLIGHT
TZOFFSETFROM:+0100
TZOFFSETTO:+0200
TZNAME:CEST
DTSTART:20260329T010000
END:DAYLIGHT
BEGIN:STANDARD
TZOFFSETFROM:+0200
TZOFFSETTO:+0100
TZNAME:CET
DTSTART:20261025T010000
END:STANDARD
BEGIN:DAYLIGHT
TZOFFSETFROM:+0100
TZOFFSETTO:+0200
TZNAME:CEST
DTSTART:20270328T010000
END:DAYLIGHT
BEGIN:STANDARD
TZOFFSETFROM:+0200
TZOFFSETTO:+0100
TZNAME:CET
DTSTART:20271031T010000
END:STANDARD
END:VTIMEZONE
BEGIN:VEVENT
DTSTART;TZID=Europe/Paris:20260104T153000
DTEND;TZID=Europe/Paris:20260104T210000
DTSTAMP:20260420T133353
CREATED:20251113T123104Z
LAST-MODIFIED:20251125T115654Z
UID:257587-1767540600-1767560400@mambocha.com
SUMMARY:Après-midi I Love Montuno – Nawël & Nico | le 04.01.26
DESCRIPTION:i♥MONTUNO SALSA SOCIAL♥♥♥♥♥♥♥♥♥♥♥♥♥♥♥♥♥♥**1 DIMANCHE PAR MOIS**\nTout y est\, la Salle\, le Son\, le Staff\, la passion et surtout l’envie de partager des moments uniques et précieux. \nAU PROGRAMME :Un Stage d’1h30 à thématiques variables à ne pas louper pour faire monter le « Level » *SHINE*PARTNER*MUSICALITÉ*ATELIER PERCU*SPINNING CLASS*… \nAU MIX: DJ♡MONTUNODes percus à la compo\, aux cuivres\, son immersion dans la Salsa fût un raz de marrée culturel et\, sa diffusion une quêteSalsa\, Cubana\, Mambo\, Son Cubano\, Pilon\, Chachacha\, Bugaloo\, Guaguanco etc.. autant de styles para GozarA très vite🌶️🌶️🌶️🌶️🌶️🌶️🌶️ \n14h30 – 16h00 : Stage Salsa avec Nico & Nawël16h00 – 20h00 : Après-midi Salsa Mambo / Salsa Cubaine avec DJ Montuno \nTarifs :Stage\, 20 € en prévente. Entrée Social offerte (sans conso) PENSEZ À RESERVER TÔT ‼️ \nRéservation billetterie : https://www.billetweb.fr/stage-salsa-dim-4-janv \nSocial (1 conso offerte) – Pas de réservation\, règlement sur place12 € en tarif normal10 € pour les adhérents Mambocha ou écoles partenaires (I Love Montuno\, Rock’Caliente\, Instant Danse\, Buyanga) 2025/20268 € sur présentation de la carte étudiant \nLieu :Loca’Dance – Galerie marchande de Fontvieille971 Route des 4 Saisons13190 ALLAUCH \nParking gratuit de 150 placesSalle de 200 m² climatisée et avec parquet \nContact: 0760506482 \nAccès:⤵️ \nhttps://maps.app.goo.gl/9bchzmkGSipLu46W9?g_st=ic \nProchaines dates :Dimanche 8 février 2026Dimanche 1° mars 2026Dimanche 12 avril 2026Dimanche 3 mai 2026Dimanche 14 juin 2026
URL:https://mambocha.com/event/apres-midi-i-love-montuno-nawel-nico-le-04-01-26/
LOCATION:Loca Dance\, 971 route des quatre saisons\, Allauch\, 13190\, France
CATEGORIES:Après-midi,Evénements,Salsa Cubaine,Salsa I Love Montuno,Salsa Portoricaine,Stages
ATTACH;FMTTYPE=image/png:https://mambocha.com/wp-content/uploads/2025/08/2025-09-28-SalsaSociale.png
ORGANIZER;CN="Ecole Mambocha":MAILTO:info@mambocha.com
END:VEVENT
BEGIN:VEVENT
DTSTART;TZID=Europe/Paris:20260110T213000
DTEND;TZID=Europe/Paris:20260111T030000
DTSTAMP:20260420T133353
CREATED:20251113T131306Z
LAST-MODIFIED:20260108T113140Z
UID:257687-1768080600-1768100400@mambocha.com
SUMMARY:Soirée Salsa Bachata | le 10.01.26
DESCRIPTION:Soirée Salsa Bachata\n20h30 – 21h30 : Cours évolutif salsa avec Lise & Jean-Philippe.21h30 – 02h00 : Soirée Salsa Bachata \nTarifs soirée avec une conso soft :12 € en tarif normal10 € pour les adhérents Mambocha ou écoles partenaires (Rock’Caliente\, Instant Danse\, Buyanga) 2025/20268 € sur présentation de la carte étudiant \nLieu :Loca’Dance – Galerie marchande de Fontvieille971 Route des 4 Saisons13190 ALLAUCH \nParking gratuit de 150 placesSalle de 200 m² climatisée et avec parquet \nProchaines dates :Samedi 10 janvier 2026Samedi 14 février 2026Samedi 14 mars 2026Samedi 18 avril 2026Samedi 9 mai 2026Vendredi 5 juin 2026
URL:https://mambocha.com/event/soiree-salsa-bachata-le-10-01-26/
LOCATION:Loca Dance\, 971 route des quatre saisons\, Allauch\, 13190\, France
CATEGORIES:Bachata,Bachata dominicaine,Evénements,Salsa Cubaine,Salsa Portoricaine,Soirées
ATTACH;FMTTYPE=image/jpeg:https://mambocha.com/wp-content/uploads/2025/12/2025-01-10-SB.jpg
ORGANIZER;CN="Ecole Mambocha":MAILTO:info@mambocha.com
END:VEVENT
BEGIN:VEVENT
DTSTART;TZID=Europe/Paris:20260117T213000
DTEND;TZID=Europe/Paris:20260118T030000
DTSTAMP:20260420T133353
CREATED:20251224T102635Z
LAST-MODIFIED:20251224T102754Z
UID:257901-1768685400-1768705200@mambocha.com
SUMMARY:Soirée La Autentica | le 17.01.26
DESCRIPTION:Soirée LA AUTÉNTICABachata – Merengue – Salsa\n20h30 – 21h30 : Cours Bachata Dominicaine avec Estelle Ramos.21h30 – 02h00 : Soirée Bachata & Bachata Dominicaine avec DJ Miguel. \nUne soirée de folie comme sait les animer Estelle\, vous serez – le temps d’une soirée – transportés en République Dominicaine pour une fête comme on en trouve seulement là-bas ! Tout ça avec les sons de DJ Miguel\, spécialiste de ces ambiances caribéennes. Voyage garantie  \nTarifs soirée avec une conso soft :12 € en tarif normal10 € pour les adhérents Mambocha ou écoles partenaires (Rock’Caliente\, Instant Danse\, Buyanga) 2025/20268 € sur présentation de la carte étudiantEntrée libre pour les stagiaires de la journée en Full (6h00). \nLieu :Loca’Dance – Galerie marchande de Fontvieille971 Route des 4 Saisons13190 ALLAUCH \nParking gratuit de 150 placesSalle de 200 m² climatisée et avec parquet
URL:https://mambocha.com/event/soiree-bachata-autentica-le-17-01-26/
LOCATION:Loca Dance\, 971 route des quatre saisons\, Allauch\, 13190\, France
CATEGORIES:Bachata,Bachata dominicaine,Evénements,Merengue,Salsa Cubaine,Salsa Portoricaine,Soirées
ATTACH;FMTTYPE=image/jpeg:https://mambocha.com/wp-content/uploads/2025/12/2025-01-17-SoireeAutentica.jpg
ORGANIZER;CN="Ecole Mambocha":MAILTO:info@mambocha.com
END:VEVENT
BEGIN:VEVENT
DTSTART;TZID=Europe/Paris:20260124T213000
DTEND;TZID=Europe/Paris:20260125T030000
DTSTAMP:20260420T133353
CREATED:20251113T125746Z
LAST-MODIFIED:20260124T134326Z
UID:257667-1769290200-1769310000@mambocha.com
SUMMARY:Soirée Salsa | le 24.01.26
DESCRIPTION:Soirée Salsa\n20h30 – 21h30 : Cours Salsa avec Chris & Mélanie21h30 – 02h00 : Soirée Salsa DJ Nawax + Show Buyanga ladies by Sol \nTarifs soirée avec une conso soft :12 € en tarif normal10 € pour les adhérents Mambocha ou écoles partenaires (Rock’Caliente\, Instant Danse\, Buyanga) 2025/20268 € sur présentation de la carte étudiant \nLieu :Loca’Dance – Galerie marchande de Fontvieille971 Route des 4 Saisons13190 ALLAUCH \nParking gratuit de 150 placesSalle de 200 m² climatisée et avec parquet \nProchaines dates : Vendredi 20 février 2026Vendredi 24 avril 2026Samedi 23 mai 2026Samedi 27 juin 2026
URL:https://mambocha.com/event/soiree-salsa-le-24-01-26/
LOCATION:Loca Dance\, 971 route des quatre saisons\, Allauch\, 13190\, France
CATEGORIES:Salsa Cubaine,Salsa Portoricaine,Soirées
ATTACH;FMTTYPE=image/jpeg:https://mambocha.com/wp-content/uploads/2025/12/2025-01-24-SoireeSalsa.jpg
END:VEVENT
END:VCALENDAR