BEGIN:VCALENDAR
VERSION:2.0
PRODID:-//Mambocha - ECPv6.15.20//NONSGML v1.0//EN
CALSCALE:GREGORIAN
METHOD:PUBLISH
X-ORIGINAL-URL:https://mambocha.com
X-WR-CALDESC:Évènements pour Mambocha
REFRESH-INTERVAL;VALUE=DURATION:PT1H
X-Robots-Tag:noindex
X-PUBLISHED-TTL:PT1H
BEGIN:VTIMEZONE
TZID:Europe/Paris
BEGIN:DAYLIGHT
TZOFFSETFROM:+0100
TZOFFSETTO:+0200
TZNAME:CEST
DTSTART:20220327T010000
END:DAYLIGHT
BEGIN:STANDARD
TZOFFSETFROM:+0200
TZOFFSETTO:+0100
TZNAME:CET
DTSTART:20221030T010000
END:STANDARD
BEGIN:DAYLIGHT
TZOFFSETFROM:+0100
TZOFFSETTO:+0200
TZNAME:CEST
DTSTART:20230326T010000
END:DAYLIGHT
BEGIN:STANDARD
TZOFFSETFROM:+0200
TZOFFSETTO:+0100
TZNAME:CET
DTSTART:20231029T010000
END:STANDARD
BEGIN:DAYLIGHT
TZOFFSETFROM:+0100
TZOFFSETTO:+0200
TZNAME:CEST
DTSTART:20240331T010000
END:DAYLIGHT
BEGIN:STANDARD
TZOFFSETFROM:+0200
TZOFFSETTO:+0100
TZNAME:CET
DTSTART:20241027T010000
END:STANDARD
END:VTIMEZONE
BEGIN:VEVENT
DTSTART;TZID=Europe/Paris:20230912T160000
DTEND;TZID=Europe/Paris:20231013T220000
DTSTAMP:20260424T163155
CREATED:20211008T183419Z
LAST-MODIFIED:20230912T085621Z
UID:11623-1694534400-1697234400@mambocha.com
SUMMARY:Milonga de Décembre
DESCRIPTION:Dimanche 12 Décembre 2021\n\nMILONGA A LOCA’DANCE AVEC DMM TANGO \n\n\nProgramme de la Journée :\n\n\n14h00 – 15h00 : STAGE LOISIR OFFERT : Spécial Tango Vals – ouvert à tous pour bien vous échauffer.\n\n\n15h00 – 20h00 : MILONGA : Musicalité de l’âge d’or à Piazzolla – Cortinas dansantes\n\n\nPass sanitaire obligatoire.\n\n\n \n\nPour fêter Noël chaque fille portera un cadeau de 1€ pour une fille et les garçons pour un garçon \n  \n\n\n\nTarifs :\n\n\n7 € par personne \n\n\n5€ pour tous les élèves de DMM Tango et Mambocha\n\n\nBoissons softs à volonté offertes\n\n\nContact :\nCendrine : 06.77.57.68.19\nmail: resa.dmm.tango@gmail.com\nFacebook: Cendrine Nicoletti\nWeb: https://dmm-tangoargentin.jimdofree.com/ \nLieu :\nLoca’Dance – Galerie marchande de Fontvieille – 971 Route des 4 Saisons – 13190 ALLAUCH\nParking de 150 places – Salle de 200 m² climatisée et avec parquet
URL:https://mambocha.com/event/milonga-decembre21/
LOCATION:Loca Dance\, 971 route des quatre saisons\, Allauch\, 13190\, France
CATEGORIES:Evénements,Soirées,Tango Argentin
ORGANIZER;CN="Ecole Mambocha":MAILTO:info@mambocha.com
END:VEVENT
END:VCALENDAR