BEGIN:VCALENDAR
VERSION:2.0
PRODID:-//Mambocha - ECPv6.15.20//NONSGML v1.0//EN
CALSCALE:GREGORIAN
METHOD:PUBLISH
X-ORIGINAL-URL:https://mambocha.com
X-WR-CALDESC:Évènements pour Mambocha
REFRESH-INTERVAL;VALUE=DURATION:PT1H
X-Robots-Tag:noindex
X-PUBLISHED-TTL:PT1H
BEGIN:VTIMEZONE
TZID:Europe/Paris
BEGIN:DAYLIGHT
TZOFFSETFROM:+0100
TZOFFSETTO:+0200
TZNAME:CEST
DTSTART:20230326T010000
END:DAYLIGHT
BEGIN:STANDARD
TZOFFSETFROM:+0200
TZOFFSETTO:+0100
TZNAME:CET
DTSTART:20231029T010000
END:STANDARD
BEGIN:DAYLIGHT
TZOFFSETFROM:+0100
TZOFFSETTO:+0200
TZNAME:CEST
DTSTART:20240331T010000
END:DAYLIGHT
BEGIN:STANDARD
TZOFFSETFROM:+0200
TZOFFSETTO:+0100
TZNAME:CET
DTSTART:20241027T010000
END:STANDARD
BEGIN:DAYLIGHT
TZOFFSETFROM:+0100
TZOFFSETTO:+0200
TZNAME:CEST
DTSTART:20250330T010000
END:DAYLIGHT
BEGIN:STANDARD
TZOFFSETFROM:+0200
TZOFFSETTO:+0100
TZNAME:CET
DTSTART:20251026T010000
END:STANDARD
END:VTIMEZONE
BEGIN:VEVENT
DTSTART;TZID=Europe/Paris:20241201T160000
DTEND;TZID=Europe/Paris:20241201T210000
DTSTAMP:20260423T131903
CREATED:20241123T123041Z
LAST-MODIFIED:20241123T150707Z
UID:255410-1733068800-1733086800@mambocha.com
SUMMARY:Après-midi Lindy avec Cathy & rémy | 01.12.2024
DESCRIPTION:Aprés-midi Lindy Hop\n  \n15h00 – 20h00 : Pratique 100% lindy hop avec Cathy & Rémy DJ Fradé. \nTarifs :5€ pour les adhérents Mambocha\, Swing Hop et Rock Caliente 2024/20257 € pour les extérieurs \nSi tu veux pratiquer le lindy hop viens sur Allauch à l’école Mambocha le dimanche 1er Décembre de 15h00 à 20h00. \nApporte un salé ou un sucré.Boissons soft offertes.On danse on échange on grignote en toute convivialité. De quoi passer un bon moment  \nLieu :Loca’Dance – Galerie marchande de Fontvieille971 Route des 4 Saisons13190 ALLAUCH \nContact :Cathy 06 12 53 85 15 \nParking gratuit de 150 placesSalle de 200 m² climatisée et avec parquet
URL:https://mambocha.com/event/apres-midi-lindy-avec-cathy-remy-01-12-2024/
LOCATION:Loca Dance\, 971 route des quatre saisons\, Allauch\, 13190\, France
CATEGORIES:Après-midi,Soirées,WCS
END:VEVENT
BEGIN:VEVENT
DTSTART;TZID=Europe/Paris:20241207T213000
DTEND;TZID=Europe/Paris:20241208T020000
DTSTAMP:20260423T131903
CREATED:20241123T145215Z
LAST-MODIFIED:20241205T104719Z
UID:255452-1733607000-1733623200@mambocha.com
SUMMARY:Soirée Salsa Bachata DJ Yonko – Léa & Romain | le 07.12.24
DESCRIPTION:Soirée Salsa Bachata « de Noël »\nMettez une touche de Noël dans votre tenue ! 🎅 \n20h30 – 21h30 : Cours évolutif de Bachata avec Léa & Romain.21h30 – 02h00 : Soirée Salsa Bachata avec DJ Yonko. \nTarifs soirée avec une conso :12 € en tarif normal10 € pour les adhérents Mambocha ou écoles partenaires (Rock’Caliente\, Instant Danse\, Buyanga) 2024/20258 € sur présentation de la carte étudiant \nLieu :Loca’Dance – Galerie marchande de Fontvieille971 Route des 4 Saisons13190 ALLAUCH \nParking gratuit de 150 placesSalle de 200 m² climatisée et avec parquet \nProchaines soirées SB :Vendredi 17 janvier 2025Vendrei 7 février 2025Samedi 8 mars 2025Vendredi 25 avril 2025Vendredi 16 mai 2025Vendredi 14 juin 2025
URL:https://mambocha.com/event/soiree-salsa-bachata-dj-yonko-lea-romain-le-07-12-24/
LOCATION:Loca Dance\, 971 route des quatre saisons\, Allauch\, 13190\, France
CATEGORIES:Bachata,Bachata dominicaine,Evénements,Soirées
ORGANIZER;CN="Ecole Mambocha":MAILTO:info@mambocha.com
END:VEVENT
BEGIN:VEVENT
DTSTART;TZID=Europe/Paris:20241213T210000
DTEND;TZID=Europe/Paris:20241213T223000
DTSTAMP:20260423T131903
CREATED:20241123T133047Z
LAST-MODIFIED:20241125T095425Z
UID:255425-1734123600-1734129000@mambocha.com
SUMMARY:Stage Bachata Dominicaine avec Estelle Ramos | 13.12.2024
DESCRIPTION:Stage Bachata Dominicaine\nVendredi 13 décembre 2024Laissez-vous emporter par les rythmes envoûtants et les pas sensuels de la bachata. Estelle vous fera découvrir la bachata dominicaine pure avec une partie en couple et une partie en Footwork (Jeux de jambes en solo). \nHoraires :20h00-21h30 \nNiveau :DébutantPour les personnes qui ne connaissent pas encore la bachata dominicaine ou qui ont quelques notions. \nTarif prévente (jusqu’au mercredi 11 décembre minuit) :20€ \nTarif réservation tardive :25€ \nRéservation :https://www.billetweb.fr/stage-bachata-dominicaine-ven-13-dec-2024 \nLieu :Loca’Dance – 971 route des quatre saisons – Galerie marchande de Fontvieille – 13190 AllauchParking gratuit 150 placesStudios climatisés et parquetés. \nProchaines dates :Samedi 18 janvier 2025Vendredi 28 février 2025Samedi 15 mars 2025Samedi 05 avril 2025
URL:https://mambocha.com/event/stage-bachata-dominicaine-avec-estelle-ramos-13-12-2024/
LOCATION:Loca Dance\, 971 route des quatre saisons\, Allauch\, 13190\, France
CATEGORIES:Bachata dominicaine,Evénements,Soirées,Stages
ORGANIZER;CN="Ecole Mambocha":MAILTO:info@mambocha.com
END:VEVENT
BEGIN:VEVENT
DTSTART;TZID=Europe/Paris:20241215T160000
DTEND;TZID=Europe/Paris:20241215T160000
DTSTAMP:20260423T131903
CREATED:20241123T131433Z
LAST-MODIFIED:20241123T150547Z
UID:255421-1734278400-1734278400@mambocha.com
SUMMARY:Milonga avec Cendrine et Maurice | 15.12.2024
DESCRIPTION:MILONGA A LOCA’DANCE AVEC DMM TANGO\nMaurice et Cendrine vous attendent nombreux le dimanche 17 novembre\, pour cette deuxième édition de la saison en Tango à Allauch. A partir de 15h00\, ils auront le plaisir de vous proposer des musiques de l’âge d’or du tango au tango nuevo – cortinas dansantes – Tout ceci dans une magnifique salle avec parquet et toujours dans une convivialité et la bonne humeur. Boissons softs offertes – Auberges espagnoles \nProgramme :15h00 à 20h00 : Après-midi dansant\, milonga. \nTarifs :7 € par personne5€ pour tous les élèves de DMM Tango et Mambocha– Auberge espagnole– Boissons softs offertes \nContact :Cendrine : 06.77.57.68.19mail: resa.dmm.tango@gmail.comFacebook: Cendrine NicolettiWeb: https://dmm-tangoargentin.jimdofree.com/ \nLieu :Loca’Dance – Galerie marchande de Fontvieille971 Route des 4 Saisons – 13190 ALLAUCHParking gratuit de 150 placesSalle de 200 m² climatisée et avec parquet
URL:https://mambocha.com/event/milonga-avec-cendrine-et-maurice-15-12-2024/
LOCATION:Loca Dance\, 971 route des quatre saisons\, Allauch\, 13190\, France
CATEGORIES:Après-midi,Soirées,Tango Argentin
END:VEVENT
BEGIN:VEVENT
DTSTART;TZID=Europe/Paris:20241220T213000
DTEND;TZID=Europe/Paris:20241221T020000
DTSTAMP:20260423T131903
CREATED:20241123T135644Z
LAST-MODIFIED:20241205T105008Z
UID:255257-1734730200-1734746400@mambocha.com
SUMMARY:Soirée Rock – Audrey & Matthieu | le 20.12.24
DESCRIPTION:Soirée Rock\n20h30 – 21h30 : Cours rock débutant évolutif avec Audrey et Matthieu.21h30 – 02h00 : Soirée Rock avec DJ Audrey. \nTarifs soirée avec une conso :12 € en tarif normal10€ pour les adhérents Mambocha 2024/2025 et partenaires (Rock Caliente\, Instant Danse)8 € sur présentation de la carte étudiant \nLieu :Loca’Dance – Galerie marchande de Fontvieille971 Route des 4 Saisons13190 ALLAUCH \nParking gratuit de 150 placesSalle de 200 m² climatisée et avec parquet \nProchaines soirées Rock :Samedi 18 janvier 2025Samedi 22 février 2025Vendredi 14 mars 2025Samedi 26 avril 2025Samedi 24 mai 2025Vendredi 20 juin 2025
URL:https://mambocha.com/event/soiree-rock-audrey-matthieu-le-20-12-24/
LOCATION:Loca Dance\, 971 route des quatre saisons\, Allauch\, 13190\, France
CATEGORIES:Evénements,Rock,Soirées
ORGANIZER;CN="Ecole Mambocha":MAILTO:info@mambocha.com
END:VEVENT
BEGIN:VEVENT
DTSTART;TZID=Europe/Paris:20241221T213000
DTEND;TZID=Europe/Paris:20241222T020000
DTSTAMP:20260423T131903
CREATED:20241123T144642Z
LAST-MODIFIED:20241123T144648Z
UID:255446-1734816600-1734832800@mambocha.com
SUMMARY:Soirée Kizomba Manu Olivia and Co | le 21.12.24
DESCRIPTION:Soirée Kizomba\n\n\n\n\nTrès prochainement toutes les infos en détail…\n\n🅟🅡🅞🅖🅡🅐🅜🅜🅔 🅓🅔 🅛🅐 🅢🅞🅘🅡🅔🅔𝟐𝟏𝐡𝟎𝟎 – 𝟐𝟐𝐡𝟎𝟎 Cours Kizomba évolutif Olivia & Manu𝟐𝟐𝐡𝟎𝟎 –  𝟎𝟐𝐡𝟎𝟎  Soirée mixée par 𝑫𝑱 YOUSS\, MO & SAUDADE  \n  \n\n Pour être au courant des informations de notre école\, des prochains stages et soirées\, vous pouvez rejoindre groupe whatsapp en cliquant ici :https://chat.whatsapp.com/JA7IUea3GShC2FWjHEMMMi\nTarifs 12€ – Un soft inclus 10€ – pour les adhérents et partenaires Mambocha – un soft inclus 8€ pour les étudiants – un soft inclusUn bar sera à votre disposition !\nAdresseMambocha971 Rte des 4 Saisons13190 Allauch
URL:https://mambocha.com/event/soiree-kizomba-manu-olivia-and-co-le-21-12-24/
LOCATION:Loca Dance\, 971 route des quatre saisons\, Allauch\, 13190\, France
CATEGORIES:Evénements,Kizomba,Soirées
ORGANIZER;CN="Ecole Mambocha":MAILTO:info@mambocha.com
END:VEVENT
BEGIN:VEVENT
DTSTART;TZID=Europe/Paris:20241222T153000
DTEND;TZID=Europe/Paris:20241222T210000
DTSTAMP:20260423T131903
CREATED:20241205T090526Z
LAST-MODIFIED:20241231T004451Z
UID:255513-1734881400-1734901200@mambocha.com
SUMMARY:Après-midi I Love Montuno – Nico & Nawël | le 22.12.24
DESCRIPTION:Après-midi I Love Montuno – Salsa Social !\nSoucieux de vous servir un social de qualité ★ ★ ★L’équipe Mambocha & I♥Montuno vous dévoilent \n« I♥Montuno SALSA SOCIAL » \nNouveau Social à Marseille 100% Salsa Lovers\, 1 dimanche par mois.Tout y est\, la salle\, le son\, le staff\, la passion et surtout l’envie de partager des moments uniques et précieux. \nAU PROGRAMME :Un stage d’1h30 pour faire monter le « Level »\, de nombreuses surprises y seront présentes.Au Mix DJ♡MONTUNODes percus à la compo\, aux cuivres\, son immersion dans la Salsa fût un raz de marrée culturel et depuis peu\, sa diffusion une quêteSalsa\, Cubana\, Mambo\, Son Cubano\, Pilon\, Chachacha\, Bugaloo\, Guaguanco etc.. autant de styles para GozarA très vite🌶️🌶️🌶️🌶️🌶️🌶️🌶️ \n14h30 – 16h00 : Stage Salsa avec Nico & Nawël.16h00 – 20h00 : Après-midi Salsa avec DJ Montuno. \nTarifs : \nStage\, 20 € en prévente. Entrée Social offerte (sans conso)Billetterie : https://www.billetweb.fr/stage-salsa-dim-22-dec \nSocial (1 conso offerte) – Pas de réservation\, règlement sur place12 € en tarif normal10 € pour les adhérents Mambocha ou écoles partenaires (I Love Montuno\, Rock’Caliente\, Instant Danse\, Buyanga) 2024/20258 € sur présentation de la carte étudiant \nProchaines soirées : \n23 février 202523 mars 202513 avril 202511 mai 20251er juin 2025 \nLieu :Loca’Dance – Galerie marchande de Fontvieille971 Route des 4 Saisons13190 ALLAUCH \nParking gratuit de 150 placesSalle de 200 m² climatisée et avec parquet
URL:https://mambocha.com/event/apres-midi-i-love-montuno-nico-nawel-le-22-12-24/
LOCATION:Loca Dance\, 971 route des quatre saisons\, Allauch\, 13190\, France
CATEGORIES:Evénements,Salsa Portoricaine,Soirées
ORGANIZER;CN="Ecole Mambocha":MAILTO:info@mambocha.com
END:VEVENT
END:VCALENDAR