BEGIN:VCALENDAR
VERSION:2.0
PRODID:-//Mambocha - ECPv6.15.20//NONSGML v1.0//EN
CALSCALE:GREGORIAN
METHOD:PUBLISH
X-ORIGINAL-URL:https://mambocha.com
X-WR-CALDESC:Évènements pour Mambocha
REFRESH-INTERVAL;VALUE=DURATION:PT1H
X-Robots-Tag:noindex
X-PUBLISHED-TTL:PT1H
BEGIN:VTIMEZONE
TZID:Europe/Paris
BEGIN:DAYLIGHT
TZOFFSETFROM:+0100
TZOFFSETTO:+0200
TZNAME:CEST
DTSTART:20240331T010000
END:DAYLIGHT
BEGIN:STANDARD
TZOFFSETFROM:+0200
TZOFFSETTO:+0100
TZNAME:CET
DTSTART:20241027T010000
END:STANDARD
BEGIN:DAYLIGHT
TZOFFSETFROM:+0100
TZOFFSETTO:+0200
TZNAME:CEST
DTSTART:20250330T010000
END:DAYLIGHT
BEGIN:STANDARD
TZOFFSETFROM:+0200
TZOFFSETTO:+0100
TZNAME:CET
DTSTART:20251026T010000
END:STANDARD
BEGIN:DAYLIGHT
TZOFFSETFROM:+0100
TZOFFSETTO:+0200
TZNAME:CEST
DTSTART:20260329T010000
END:DAYLIGHT
BEGIN:STANDARD
TZOFFSETFROM:+0200
TZOFFSETTO:+0100
TZNAME:CET
DTSTART:20261025T010000
END:STANDARD
END:VTIMEZONE
BEGIN:VEVENT
DTSTART;TZID=Europe/Paris:20250117T213000
DTEND;TZID=Europe/Paris:20250118T020000
DTSTAMP:20260423T115301
CREATED:20241230T214436Z
LAST-MODIFIED:20241230T214440Z
UID:255589-1737149400-1737165600@mambocha.com
SUMMARY:Soirée Salsa Bachata DJ Yonko – Roméo | le 17.01.25
DESCRIPTION:Soirée Salsa Bachata\n20h30 – 21h30 : Cours évolutif de Bachata avec Roméo.21h30 – 02h00 : Soirée Salsa Bachata avec DJ Yonko. \nTarifs soirée avec une conso soft :12 € en tarif normal10 € pour les adhérents Mambocha ou écoles partenaires (Rock’Caliente\, Instant Danse\, Buyanga) 2024/20258 € sur présentation de la carte étudiant \nLieu :Loca’Dance – Galerie marchande de Fontvieille971 Route des 4 Saisons13190 ALLAUCH \nParking gratuit de 150 placesSalle de 200 m² climatisée et avec parquet \nProchaines soirées SB :– Vendredi 7 février 2025– Samedi 8 mars 2025– Vendredi 25 avril 2025– Vendredi 16 mai 2025– Vendredi 14 juin 2025
URL:https://mambocha.com/event/soiree-salsa-bachata-dj-yonko-romeo-le-17-01-25/
LOCATION:Loca Dance\, 971 route des quatre saisons\, Allauch\, 13190\, France
CATEGORIES:Bachata,Bachata dominicaine,Evénements,Soirées
ORGANIZER;CN="Ecole Mambocha":MAILTO:info@mambocha.com
END:VEVENT
BEGIN:VEVENT
DTSTART;TZID=Europe/Paris:20250118T213000
DTEND;TZID=Europe/Paris:20250119T020000
DTSTAMP:20260423T115301
CREATED:20241230T203954Z
LAST-MODIFIED:20241230T210438Z
UID:255584-1737235800-1737252000@mambocha.com
SUMMARY:Soirée Rock – Audrey | le 18.01.25
DESCRIPTION: \nSoirée Rock\n20h30 – 21h30 : Cours rock débutant évolutif avec Audrey21h30 – 02h00 : Soirée Rock avec DJ Audrey. \nTarifs soirée avec une conso soft :12 € en tarif normal10€ pour les adhérents Mambocha 2024/2025 et partenaires (Rock Caliente\, Instant Danse)8 € sur présentation de la carte étudiant \nLieu :Loca’Dance – Galerie marchande de Fontvieille971 Route des 4 Saisons13190 ALLAUCH \nParking gratuit de 150 placesSalle de 200 m² climatisée et avec parquet \nProchaines soirées Rock :Samedi 22 février 2025Vendredi 14 mars 2025Samedi 26 avril 2025Samedi 24 mai 2025Vendredi 20 juin 2025
URL:https://mambocha.com/event/stage-de-rock-revision-du-1trimestre-12-01-2025/
LOCATION:Loca Dance\, 971 route des quatre saisons\, Allauch\, 13190\, France
CATEGORIES:Evénements,Rock,Soirées
ORGANIZER;CN="Ecole Mambocha":MAILTO:info@mambocha.com
END:VEVENT
BEGIN:VEVENT
DTSTART;TZID=Europe/Paris:20250119T160000
DTEND;TZID=Europe/Paris:20250119T160000
DTSTAMP:20260423T115301
CREATED:20241230T213517Z
LAST-MODIFIED:20241230T213522Z
UID:255590-1737302400-1737302400@mambocha.com
SUMMARY:Milonga avec Cendrine et Maurice | 19.01.2025
DESCRIPTION:MILONGA A LOCA’DANCE AVEC DMM TANGO\nMaurice et Cendrine vous attendent nombreux le dimanche 19 janvier. \nA partir de 15h00\, ils auront le plaisir de vous proposer des musiques de l’âge d’or du tango au tango nuevo – cortinas dansantes – Tout ceci dans une magnifique salle avec parquet et toujours dans une convivialité et la bonne humeur. Boissons softs offertes – Auberges espagnoles \nProgramme :15h00 à 20h00 : Après-midi dansant\, milonga. \nTarifs :7 € par personne5€ pour tous les élèves de DMM Tango et Mambocha– Auberge espagnole– Boissons softs offertes \nContact :Cendrine : 06.77.57.68.19mail: resa.dmm.tango@gmail.comFacebook: Cendrine NicolettiWeb: https://dmm-tangoargentin.jimdofree.com/ \nLieu :Loca’Dance – Galerie marchande de Fontvieille971 Route des 4 Saisons – 13190 ALLAUCHParking gratuit de 150 placesSalle de 200 m² climatisée et avec parquet \nProchaines Milonga :– 16 février– 16 mars– 20 avril– 18 mai– 15 juin
URL:https://mambocha.com/event/milonga-avec-cendrine-et-maurice-19-01-2025/
LOCATION:Loca Dance\, 971 route des quatre saisons\, Allauch\, 13190\, France
CATEGORIES:Après-midi,Soirées,Tango Argentin
END:VEVENT
BEGIN:VEVENT
DTSTART;TZID=Europe/Paris:20250124T213000
DTEND;TZID=Europe/Paris:20250125T020000
DTSTAMP:20260423T115301
CREATED:20241123T134410Z
LAST-MODIFIED:20241230T223941Z
UID:255430-1737754200-1737770400@mambocha.com
SUMMARY:Soirée Salsa DJ Nawax – Christophe | le 24.01.25
DESCRIPTION:Soirée Salsa\n20h30 – 21h30 : Cours Salsa avec Christophe.21h30 – 02h00 : Soirée Salsa avec DJ Nawax. \nTarifs soirée avec une conso soft :12 € en tarif normal10 € pour les adhérents Mambocha ou écoles partenaires (Rock’Caliente\, Instant Danse\, Buyanga) 2024/20258 € sur présentation de la carte étudiant \nLieu :Loca’Dance – Galerie marchande de Fontvieille971 Route des 4 Saisons13190 ALLAUCH \nParking gratuit de 150 placesSalle de 200 m² climatisée et avec parquet \nProchaines soirées Salsa :– Samedi 15 mars 2025– Samedi 19 avril 2025– Vendredi 13 juin 2025
URL:https://mambocha.com/event/soiree-salsa-dj-nawax-christophe-le-24-01-25/
LOCATION:Loca Dance\, 971 route des quatre saisons\, Allauch\, 13190\, France
CATEGORIES:Salsa Cubaine,Salsa Portoricaine,Soirées
END:VEVENT
END:VCALENDAR