BEGIN:VCALENDAR
VERSION:2.0
PRODID:-//Mambocha - ECPv6.15.20//NONSGML v1.0//EN
CALSCALE:GREGORIAN
METHOD:PUBLISH
X-WR-CALNAME:Mambocha
X-ORIGINAL-URL:https://mambocha.com
X-WR-CALDESC:Évènements pour Mambocha
REFRESH-INTERVAL;VALUE=DURATION:PT1H
X-Robots-Tag:noindex
X-PUBLISHED-TTL:PT1H
BEGIN:VTIMEZONE
TZID:Europe/Paris
BEGIN:DAYLIGHT
TZOFFSETFROM:+0100
TZOFFSETTO:+0200
TZNAME:CEST
DTSTART:20240331T010000
END:DAYLIGHT
BEGIN:STANDARD
TZOFFSETFROM:+0200
TZOFFSETTO:+0100
TZNAME:CET
DTSTART:20241027T010000
END:STANDARD
BEGIN:DAYLIGHT
TZOFFSETFROM:+0100
TZOFFSETTO:+0200
TZNAME:CEST
DTSTART:20250330T010000
END:DAYLIGHT
BEGIN:STANDARD
TZOFFSETFROM:+0200
TZOFFSETTO:+0100
TZNAME:CET
DTSTART:20251026T010000
END:STANDARD
BEGIN:DAYLIGHT
TZOFFSETFROM:+0100
TZOFFSETTO:+0200
TZNAME:CEST
DTSTART:20260329T010000
END:DAYLIGHT
BEGIN:STANDARD
TZOFFSETFROM:+0200
TZOFFSETTO:+0100
TZNAME:CET
DTSTART:20261025T010000
END:STANDARD
END:VTIMEZONE
BEGIN:VEVENT
DTSTART;TZID=Europe/Paris:20250301T220000
DTEND;TZID=Europe/Paris:20250302T030000
DTSTAMP:20260421T085741
CREATED:20250220T191326Z
LAST-MODIFIED:20250220T191539Z
UID:255816-1740866400-1740884400@mambocha.com
SUMMARY:Soirée Kizomba Manu Olivia | le 01.03.25
DESCRIPTION:Ce samedi 1er Mars c’est TON samedi 100% Kizomba ! Votre école de danse Mambocha nous dédie son parquet exclusivement pour danser la Kiz Une édition jungle avec un dresscode pour recevoir notre prochain invité de Grenoble : Dj Miky Mike  Dresscode : CAMOUFLAGE\n \n \n🅟🅡🅞🅖🅡🅐🅜🅜🅔 🅓🅔 🅛🅐 🅢🅞🅘🅡🅔🅔\n𝟐𝟏𝐡𝟎𝟎 – 𝟐𝟐𝐡𝟎𝟎 Cours Kizomba évolutif Olivia & Manu𝟐𝟐𝐡𝟎𝟎 –  𝟎𝟐𝐡𝟎𝟎  Soirée mixée par 𝑫𝑱 Saudade & 𝑫𝑱 Miky Mike \n \n \n Pour être au courant des informations de notre école\, des prochains stages et soirées\, vous pouvez rejoindre groupe whatsapp en cliquant ici :https://chat.whatsapp.com/FFMFks3xfZp9Ut4QKdgyat\n Pour les candidatures taxis :https://chat.whatsapp.com/FnZjj3xwE2L0RnzYX5uKcR\n \n \nTarifs 12€ – Un soft inclus 10€ – pour les adhérents et partenaires Mambocha – un soft inclus 8€ pour les étudiants – un soft inclusUn bar sera à votre disposition !\n \n \nAdresseMambocha971 Rte des 4 Saisons13190 Allauch\n \n \n Prochaine édition avec Fred et Morgane\, ainsi que Dj Hugo Smile :https://fb.me/e/2tIfV9UtQky
URL:https://mambocha.com/event/soiree-kizomba-manu-olivia-le-01-03-25/
LOCATION:Loca Dance\, 971 route des quatre saisons\, Allauch\, 13190\, France
CATEGORIES:Evénements,Kizomba,Soirées
ORGANIZER;CN="Ecole Mambocha":MAILTO:info@mambocha.com
END:VEVENT
BEGIN:VEVENT
DTSTART;TZID=Europe/Paris:20250308T213000
DTEND;TZID=Europe/Paris:20250309T030000
DTSTAMP:20260421T085741
CREATED:20250221T115408Z
LAST-MODIFIED:20250221T115659Z
UID:255844-1741469400-1741489200@mambocha.com
SUMMARY:Soirée Salsa Bachata DJ Nawax – Romeo | le 08.03.25
DESCRIPTION:Soirée Salsa Bachata\n20h30 – 21h30 : Cours évolutif de Bachata avec Roméo.21h30 – 02h00 : Soirée Salsa Bachata avec DJ Nawax. \nTarifs soirée avec une conso soft :12 € en tarif normal10 € pour les adhérents Mambocha ou écoles partenaires (Rock’Caliente\, Instant Danse\, Buyanga) 2024/20258 € sur présentation de la carte étudiant \nLieu :Loca’Dance – Galerie marchande de Fontvieille971 Route des 4 Saisons13190 ALLAUCH \nParking gratuit de 150 placesSalle de 200 m² climatisée et avec parquet \nProchaines soirées SB :– Vendredi 25 avril 2025– Vendredi 16 mai 2025– Vendredi 14 juin 2025
URL:https://mambocha.com/event/soiree-salsa-bachata-dj-nawax-romeo-le-08-03-25/
LOCATION:Loca Dance\, 971 route des quatre saisons\, Allauch\, 13190\, France
CATEGORIES:Bachata,Bachata dominicaine,Evénements,Soirées
ORGANIZER;CN="Ecole Mambocha":MAILTO:info@mambocha.com
END:VEVENT
BEGIN:VEVENT
DTSTART;TZID=Europe/Paris:20250314T213000
DTEND;TZID=Europe/Paris:20250315T030000
DTSTAMP:20260421T085741
CREATED:20250221T115850Z
LAST-MODIFIED:20250221T123418Z
UID:255861-1741987800-1742007600@mambocha.com
SUMMARY:Soirée Rock – Audrey | le 14.03.25
DESCRIPTION: \nSoirée Rock\n20h30 – 21h30 : Cours rock débutant évolutif avec Audrey21h30 – 02h00 : Soirée Rock avec DJ Audrey. \nTarifs soirée avec une conso soft :12 € en tarif normal10€ pour les adhérents Mambocha 2024/2025 et partenaires (Rock Caliente\, Instant Danse)8 € sur présentation de la carte étudiant \nLieu :Loca’Dance – Galerie marchande de Fontvieille971 Route des 4 Saisons13190 ALLAUCH \nParking gratuit de 150 placesSalle de 200 m² climatisée et avec parquet \nProchaines soirées Rock :Samedi 26 avril 2025Samedi 24 mai 2025Vendredi 20 juin 2025
URL:https://mambocha.com/event/soiree-rock-audrey-le-14-03-25/
LOCATION:Loca Dance\, 971 route des quatre saisons\, Allauch\, 13190\, France
CATEGORIES:Evénements,Rock,Soirées
ORGANIZER;CN="Ecole Mambocha":MAILTO:info@mambocha.com
END:VEVENT
BEGIN:VEVENT
DTSTART;TZID=Europe/Paris:20250315T213000
DTEND;TZID=Europe/Paris:20250316T030000
DTSTAMP:20260421T085741
CREATED:20250221T121911Z
LAST-MODIFIED:20250221T122659Z
UID:255879-1742074200-1742094000@mambocha.com
SUMMARY:Soirée Salsa DJ Zeki– Sol&Mauro | le 15.03.25
DESCRIPTION:Soirée Salsa\n20h30 – 21h30 : Cours Salsa avec Sol et Mauro.21h30 – 02h00 : Soirée Salsa avec DJ Zéki. \nTarifs soirée avec une conso soft :12 € en tarif normal10 € pour les adhérents Mambocha ou écoles partenaires (Rock’Caliente\, Instant Danse\, Buyanga) 2024/20258 € sur présentation de la carte étudiant \nLieu :Loca’Dance – Galerie marchande de Fontvieille971 Route des 4 Saisons13190 ALLAUCH \nParking gratuit de 150 placesSalle de 200 m² climatisée et avec parquet \nProchaines soirées Salsa :– Samedi 19 avril 2025– Vendredi 13 juin 2025
URL:https://mambocha.com/event/soiree-salsa-dj-zeki-solmauro-le-15-03-25/
LOCATION:Loca Dance\, 971 route des quatre saisons\, Allauch\, 13190\, France
CATEGORIES:Salsa Cubaine,Salsa Portoricaine,Soirées
END:VEVENT
BEGIN:VEVENT
DTSTART;TZID=Europe/Paris:20250316T160000
DTEND;TZID=Europe/Paris:20250316T210000
DTSTAMP:20260421T085741
CREATED:20250221T122937Z
LAST-MODIFIED:20250221T123042Z
UID:255887-1742140800-1742158800@mambocha.com
SUMMARY:Milonga avec Cendrine et Maurice | 16.03.2025
DESCRIPTION:MILONGA A LOCA’DANCE AVEC DMM TANGO\nMaurice et Cendrine vous attendent nombreux le dimanche 16 mars. \nA partir de 15h00\, ils auront le plaisir de vous proposer des musiques de l’âge d’or du tango au tango nuevo – cortinas dansantes – Tout ceci dans une magnifique salle avec parquet et toujours dans une convivialité et la bonne humeur. Boissons softs offertes – Auberges espagnoles \nProgramme :15h00 à 20h00 : Après-midi dansant\, milonga. \nTarifs :7 € par personne5€ pour tous les élèves de DMM Tango et Mambocha– Auberge espagnole– Boissons softs offertes \nContact :Cendrine : 06.77.57.68.19mail: resa.dmm.tango@gmail.comFacebook: Cendrine NicolettiWeb: https://dmm-tangoargentin.jimdofree.com/ \nLieu :Loca’Dance – Galerie marchande de Fontvieille971 Route des 4 Saisons – 13190 ALLAUCHParking gratuit de 150 placesSalle de 200 m² climatisée et avec parquet \nProchaines Milonga :– 20 avril– 18 mai– 15 juin
URL:https://mambocha.com/event/milonga-avec-cendrine-et-maurice-16-03-2025/
LOCATION:Loca Dance\, 971 route des quatre saisons\, Allauch\, 13190\, France
CATEGORIES:Après-midi,Soirées,Tango Argentin
END:VEVENT
END:VCALENDAR