BEGIN:VCALENDAR
VERSION:2.0
PRODID:-//Mambocha - ECPv6.15.20//NONSGML v1.0//EN
CALSCALE:GREGORIAN
METHOD:PUBLISH
X-ORIGINAL-URL:https://mambocha.com
X-WR-CALDESC:Évènements pour Mambocha
REFRESH-INTERVAL;VALUE=DURATION:PT1H
X-Robots-Tag:noindex
X-PUBLISHED-TTL:PT1H
BEGIN:VTIMEZONE
TZID:Europe/Paris
BEGIN:DAYLIGHT
TZOFFSETFROM:+0100
TZOFFSETTO:+0200
TZNAME:CEST
DTSTART:20240331T010000
END:DAYLIGHT
BEGIN:STANDARD
TZOFFSETFROM:+0200
TZOFFSETTO:+0100
TZNAME:CET
DTSTART:20241027T010000
END:STANDARD
BEGIN:DAYLIGHT
TZOFFSETFROM:+0100
TZOFFSETTO:+0200
TZNAME:CEST
DTSTART:20250330T010000
END:DAYLIGHT
BEGIN:STANDARD
TZOFFSETFROM:+0200
TZOFFSETTO:+0100
TZNAME:CET
DTSTART:20251026T010000
END:STANDARD
BEGIN:DAYLIGHT
TZOFFSETFROM:+0100
TZOFFSETTO:+0200
TZNAME:CEST
DTSTART:20260329T010000
END:DAYLIGHT
BEGIN:STANDARD
TZOFFSETFROM:+0200
TZOFFSETTO:+0100
TZNAME:CET
DTSTART:20261025T010000
END:STANDARD
END:VTIMEZONE
BEGIN:VEVENT
DTSTART;TZID=Europe/Paris:20250613T223000
DTEND;TZID=Europe/Paris:20250614T040000
DTSTAMP:20260421T042035
CREATED:20250312T154134Z
LAST-MODIFIED:20250522T101512Z
UID:255977-1749853800-1749873600@mambocha.com
SUMMARY:Soirée Salsa DJ Nawax – Chris | le 13.06.25
DESCRIPTION:Soirée Salsa\n20h30 – 21h30 : Cours Salsa avec Chris.21h30 – 02h00 : Soirée Salsa avec DJ Nawax. \nTarifs soirée avec une conso soft :12 € en tarif normal10 € pour les adhérents Mambocha ou écoles partenaires (Rock’Caliente\, Instant Danse\, Buyanga) 2024/20258 € sur présentation de la carte étudiant \nLieu :Loca’Dance – Galerie marchande de Fontvieille971 Route des 4 Saisons13190 ALLAUCH \nParking gratuit de 150 placesSalle de 200 m² climatisée et avec parquet
URL:https://mambocha.com/event/soiree-salsa-dj-nawax-chris-le-13-06-25/
LOCATION:Loca Dance\, 971 route des quatre saisons\, Allauch\, 13190\, France
CATEGORIES:Salsa Cubaine,Salsa Portoricaine,Soirées
END:VEVENT
BEGIN:VEVENT
DTSTART;TZID=Europe/Paris:20250614T223000
DTEND;TZID=Europe/Paris:20250615T040000
DTSTAMP:20260421T042035
CREATED:20250312T155203Z
LAST-MODIFIED:20250522T104622Z
UID:255994-1749940200-1749960000@mambocha.com
SUMMARY:Soirée Salsa Bachata DJ Yonko – Léa & Romain| le 14.06.25
DESCRIPTION:Soirée Salsa Bachata\n20h30 – 21h30 : Cours évolutif de Bachata avec Léa et Romain.21h30 – 02h00 : Soirée Salsa Bachata avec DJ Yonko. \nTarifs soirée avec une conso soft :12 € en tarif normal10 € pour les adhérents Mambocha ou écoles partenaires (Rock’Caliente\, Instant Danse\, Buyanga) 2024/20258 € sur présentation de la carte étudiant \nLieu :Loca’Dance – Galerie marchande de Fontvieille971 Route des 4 Saisons13190 ALLAUCH \nParking gratuit de 150 placesSalle de 200 m² climatisée et avec parquet
URL:https://mambocha.com/event/soiree-salsa-bachata-dj-yonko-lea-romain-le-14-06-25/
LOCATION:Loca Dance\, 971 route des quatre saisons\, Allauch\, 13190\, France
CATEGORIES:Bachata,Bachata dominicaine,Evénements,Soirées
ORGANIZER;CN="Ecole Mambocha":MAILTO:info@mambocha.com
END:VEVENT
BEGIN:VEVENT
DTSTART;TZID=Europe/Paris:20250615T180000
DTEND;TZID=Europe/Paris:20250615T220000
DTSTAMP:20260421T042035
CREATED:20250312T153526Z
LAST-MODIFIED:20250522T105449Z
UID:255971-1750010400-1750024800@mambocha.com
SUMMARY:Milonga avec Cendrine et Maurice | 15.06.2025
DESCRIPTION:MILONGA A LOCA’DANCE AVEC DMM TANGO\nMaurice et Cendrine vous attendent nombreux le dimanche 15 juin. \nA partir de 16h00\, ils auront le plaisir de vous proposer des musiques de l’âge d’or du tango au tango nuevo – cortinas dansantes – Tout ceci dans une magnifique salle avec parquet et toujours dans une convivialité et la bonne humeur. Boissons softs offertes – Auberges espagnoles \nProgramme :16h00 à 20h00 : Après-midi dansant\, milonga. \nTarifs :7 € par personne5€ pour tous les élèves de DMM Tango et Mambocha– Auberge espagnole– Boissons softs offertes \nContact :Cendrine : 06.77.57.68.19mail: resa.dmm.tango@gmail.comFacebook: Cendrine NicolettiWeb: https://dmm-tangoargentin.jimdofree.com/ \nLieu :Loca’Dance – Galerie marchande de Fontvieille971 Route des 4 Saisons – 13190 ALLAUCHParking gratuit de 150 placesSalle de 200 m² climatisée et avec parquet
URL:https://mambocha.com/event/milonga-avec-cendrine-et-maurice-15-06-2025/
LOCATION:Loca Dance\, 971 route des quatre saisons\, Allauch\, 13190\, France
CATEGORIES:Après-midi,Soirées,Tango Argentin
END:VEVENT
BEGIN:VEVENT
DTSTART;TZID=Europe/Paris:20250620T223000
DTEND;TZID=Europe/Paris:20250621T040000
DTSTAMP:20260421T042035
CREATED:20250312T150441Z
LAST-MODIFIED:20250522T103902Z
UID:255936-1750458600-1750478400@mambocha.com
SUMMARY:Soirée Rock – Audrey et Matthieu | le 20.06.25
DESCRIPTION: \nSoirée Rock\n20h30 – 21h30 : Cours rock débutant évolutif avec Audrey et Matthieu21h30 – 02h00 : Soirée Rock avec DJ Audrey et Matthieu. \nTarifs soirée avec une conso soft :12 € en tarif normal10€ pour les adhérents Mambocha 2024/2025 et partenaires (Rock Caliente\, Instant Danse)8 € sur présentation de la carte étudiant \nLieu :Loca’Dance – Galerie marchande de Fontvieille971 Route des 4 Saisons13190 ALLAUCH \nParking gratuit de 150 placesSalle de 200 m² climatisée et avec parquet
URL:https://mambocha.com/event/soiree-rock-audrey-et-matthieu-le-20-06-25/
LOCATION:Loca Dance\, 971 route des quatre saisons\, Allauch\, 13190\, France
CATEGORIES:Evénements,Rock,Soirées
ORGANIZER;CN="Ecole Mambocha":MAILTO:info@mambocha.com
END:VEVENT
BEGIN:VEVENT
DTSTART;TZID=Europe/Paris:20250620T223000
DTEND;TZID=Europe/Paris:20250621T040000
DTSTAMP:20260421T042035
CREATED:20250610T065516Z
LAST-MODIFIED:20250610T113718Z
UID:256696-1750458600-1750478400@mambocha.com
SUMMARY:Soirée d'été SBK | le 20.06.25
DESCRIPTION:  \nSoirée d’été Salsa Bachata Kizomba\n19h00 – 20h00 : Cours Initiation à la Salsa avec Lise.20h00 – 00h00 : Soirée Salsa Bachata Kizomba avec DJ Nawax. \nEntrée libreL’établissement Au Bureau ne prenant aucune entrée nous vous remercions de consommer afin d’assurer la pérennité de l’événement.Vous pouvez donc soit consommer quelques verres sur place soit réserver une table pour manger.Piste de danse en extérieur sur la terrasse\, chaussures plates recommandées. \nPour réserver une table\, vous pouvez le faire sur leur site ou par téléphone au 04.96.17.12.93. \nSi cette avant-première est une réussite l’événement deviendra hebdomadaire et nous vous communiquerons le calendrier avec cours\, profs et DJs pour les prochaines dates. \nLieu :Au BureauTraverse de la MontreLa Valentine13011 Marseille \nGrand parking gratuit
URL:https://mambocha.com/event/soiree-dete-sbk-le-20-06-25/
LOCATION:Loca Dance\, 971 route des quatre saisons\, Allauch\, 13190\, France
CATEGORIES:Bachata,Evénements,Kizomba,Salsa Cubaine,Salsa Portoricaine,Soirées
ORGANIZER;CN="Ecole Mambocha":MAILTO:info@mambocha.com
END:VEVENT
BEGIN:VEVENT
DTSTART;TZID=Europe/Paris:20250628T220000
DTEND;TZID=Europe/Paris:20250629T000000
DTSTAMP:20260421T042035
CREATED:20250308T114953Z
LAST-MODIFIED:20250430T122918Z
UID:255915-1751148000-1751155200@mambocha.com
SUMMARY:Gala de chant – Viva la vida | le 28.06.25
DESCRIPTION:Gala de chant !\nRejoignez-nous pour une soirée pleine d’énergie\, d’émotions et de belles découvertes : le Gala de chant des élèves de Diane sur le thème : Viva la vida !\nNos talentueux élèves monteront sur scène pour vous offrir un moment unique\, où courage\, passion et mélodies se mêleront pour illuminer la soirée. Venez les encourager et partager avec eux cette belle expérience musicale !✨ Ambiance chaleureuse et conviviale garantie ! \n  \nDate : Samedi 28 Juin 2025\n⏰19h30 : Ouverture des portes⏰20h00 : Début du spectacle \nLieu : Loca’Dance\n971 route des 4 saisons\, Galerie marchande de fontvieille 13190 Allauch \nTarifs :\n9 € en tarif normal5 € en tarif réduit (- de 10 ans) \nhttps://www.billetweb.fr/gala-de-chant-mambocha-2025-viva-la-vida \nNous espérons vous voir nombreux pour applaudir et soutenir ces artistes en herbe ! \nL’équipe Mambocha
URL:https://mambocha.com/event/gala-de-chant-le-28-06-25/
LOCATION:Loca Dance\, 971 route des quatre saisons\, Allauch\, 13190\, France
CATEGORIES:Evénements,Gala,Soirées
ORGANIZER;CN="Ecole Mambocha":MAILTO:info@mambocha.com
END:VEVENT
END:VCALENDAR