BEGIN:VCALENDAR
VERSION:2.0
PRODID:-//Mambocha - ECPv6.15.20//NONSGML v1.0//EN
CALSCALE:GREGORIAN
METHOD:PUBLISH
X-WR-CALNAME:Mambocha
X-ORIGINAL-URL:https://mambocha.com
X-WR-CALDESC:Évènements pour Mambocha
REFRESH-INTERVAL;VALUE=DURATION:PT1H
X-Robots-Tag:noindex
X-PUBLISHED-TTL:PT1H
BEGIN:VTIMEZONE
TZID:Europe/Paris
BEGIN:DAYLIGHT
TZOFFSETFROM:+0100
TZOFFSETTO:+0200
TZNAME:CEST
DTSTART:20240331T010000
END:DAYLIGHT
BEGIN:STANDARD
TZOFFSETFROM:+0200
TZOFFSETTO:+0100
TZNAME:CET
DTSTART:20241027T010000
END:STANDARD
BEGIN:DAYLIGHT
TZOFFSETFROM:+0100
TZOFFSETTO:+0200
TZNAME:CEST
DTSTART:20250330T010000
END:DAYLIGHT
BEGIN:STANDARD
TZOFFSETFROM:+0200
TZOFFSETTO:+0100
TZNAME:CET
DTSTART:20251026T010000
END:STANDARD
BEGIN:DAYLIGHT
TZOFFSETFROM:+0100
TZOFFSETTO:+0200
TZNAME:CEST
DTSTART:20260329T010000
END:DAYLIGHT
BEGIN:STANDARD
TZOFFSETFROM:+0200
TZOFFSETTO:+0100
TZNAME:CET
DTSTART:20261025T010000
END:STANDARD
END:VTIMEZONE
BEGIN:VEVENT
DTSTART;TZID=Europe/Paris:20250711T213000
DTEND;TZID=Europe/Paris:20250712T020000
DTSTAMP:20260421T024304
CREATED:20250701T113745Z
LAST-MODIFIED:20250701T114117Z
UID:256742-1752269400-1752285600@mambocha.com
SUMMARY:Soirée d'été SBK | le 11.07.25
DESCRIPTION:  \nSoirée d’été Salsa Bachata Kizomba\n19h30 – 20h30 : Cours Initiation à la Salsa avec Nawël et Nico.20h30 – 00h00 : Soirée Salsa Bachata Kizomba avec DJ Yonko. \nEntrée libreL’établissement Au Bureau ne prenant aucune entrée nous vous remercions de consommer afin d’assurer la pérennité de l’événement.Vous pouvez donc soit consommer quelques verres sur place soit réserver une table pour manger.Piste de danse en extérieur sur la terrasse\, chaussures plates recommandées. \nPour réserver une table\, vous pouvez le faire sur leur site ou par téléphone au 04.96.17.12.93. \nSi cette avant-première est une réussite l’événement deviendra hebdomadaire et nous vous communiquerons le calendrier avec cours\, profs et DJs pour les prochaines dates. \nLieu :Au BureauTraverse de la MontreLa Valentine13011 Marseille \nGrand parking gratuit
URL:https://mambocha.com/event/soiree-dete-sbk-le-11-07-25/
LOCATION:Loca Dance\, 971 route des quatre saisons\, Allauch\, 13190\, France
CATEGORIES:Bachata,Evénements,Kizomba,Salsa Cubaine,Salsa Portoricaine,Soirées
ORGANIZER;CN="Ecole Mambocha":MAILTO:info@mambocha.com
END:VEVENT
BEGIN:VEVENT
DTSTART;TZID=Europe/Paris:20250718T213000
DTEND;TZID=Europe/Paris:20250719T020000
DTSTAMP:20260421T024304
CREATED:20250701T114138Z
LAST-MODIFIED:20250701T114345Z
UID:256749-1752874200-1752890400@mambocha.com
SUMMARY:Soirée d'été SBK | le 18.07.25
DESCRIPTION:  \nSoirée d’été Salsa Bachata Kizomba\n19h30 – 20h30 : Cours Initiation à la Bachata dominicaine avec Estelle.20h30 – 00h00 : Soirée Salsa Bachata Kizomba avec DJ Yonko. \nEntrée libreL’établissement Au Bureau ne prenant aucune entrée nous vous remercions de consommer afin d’assurer la pérennité de l’événement.Vous pouvez donc soit consommer quelques verres sur place soit réserver une table pour manger.Piste de danse en extérieur sur la terrasse\, chaussures plates recommandées. \nPour réserver une table\, vous pouvez le faire sur leur site ou par téléphone au 04.96.17.12.93. \nSi cette avant-première est une réussite l’événement deviendra hebdomadaire et nous vous communiquerons le calendrier avec cours\, profs et DJs pour les prochaines dates. \nLieu :Au BureauTraverse de la MontreLa Valentine13011 Marseille \nGrand parking gratuit
URL:https://mambocha.com/event/soiree-dete-sbk-le-18-07-25/
LOCATION:Loca Dance\, 971 route des quatre saisons\, Allauch\, 13190\, France
CATEGORIES:Bachata,Evénements,Kizomba,Salsa Cubaine,Salsa Portoricaine,Soirées
ORGANIZER;CN="Ecole Mambocha":MAILTO:info@mambocha.com
END:VEVENT
BEGIN:VEVENT
DTSTART;TZID=Europe/Paris:20250725T213000
DTEND;TZID=Europe/Paris:20250726T020000
DTSTAMP:20260421T024304
CREATED:20250701T114512Z
LAST-MODIFIED:20250701T114834Z
UID:256755-1753479000-1753495200@mambocha.com
SUMMARY:Soirée d'été SBK | le 25.07.25
DESCRIPTION:  \nSoirée d’été Salsa Bachata Kizomba\n19h30 – 20h30 : Cours Initiation à la Salsa avec Chris et Mélanie.20h30 – 00h00 : Soirée Salsa Bachata Kizomba avec DJ Manu. \nEntrée libreL’établissement Au Bureau ne prenant aucune entrée nous vous remercions de consommer afin d’assurer la pérennité de l’événement.Vous pouvez donc soit consommer quelques verres sur place soit réserver une table pour manger.Piste de danse en extérieur sur la terrasse\, chaussures plates recommandées. \nPour réserver une table\, vous pouvez le faire sur leur site ou par téléphone au 04.96.17.12.93. \nSi cette avant-première est une réussite l’événement deviendra hebdomadaire et nous vous communiquerons le calendrier avec cours\, profs et DJs pour les prochaines dates. \nLieu :Au BureauTraverse de la MontreLa Valentine13011 Marseille \nGrand parking gratuit
URL:https://mambocha.com/event/soiree-dete-sbk-le-25-07-25/
LOCATION:Loca Dance\, 971 route des quatre saisons\, Allauch\, 13190\, France
CATEGORIES:Bachata,Evénements,Kizomba,Salsa Cubaine,Salsa Portoricaine,Soirées
ORGANIZER;CN="Ecole Mambocha":MAILTO:info@mambocha.com
END:VEVENT
BEGIN:VEVENT
DTSTART;TZID=Europe/Paris:20250726T210000
DTEND;TZID=Europe/Paris:20250727T023000
DTSTAMP:20260421T024304
CREATED:20250626T172757Z
LAST-MODIFIED:20250626T193912Z
UID:256727-1753563600-1753583400@mambocha.com
SUMMARY:Soirée Salsa Bachata Rock | le 26.07.25
DESCRIPTION:Soirée SBR gratuite en plein air : Salsa\, Bachata\, Rock !\nToute l’équipe Mambocha vous attend pour enflammer le Dance floor ! \nDéroulé de l’événement :19h00-19h45 Initiation à la Salsa19h45-20h30 Initiation au Rock20h30-21h15 Initiation à la Bachata21h15-00h30 Soirée Salsa\, Bachata\, Rock \nGrande auberge espagnole dès 19h00 : Merci de porter de quoi boire ou manger pour partager avec tous les danseurs (ATTENTION / Pas de bar) ! Pensez à vos écocups et gourdes ! \nN’hésitez pas à inviter vos familles et vos amis pour leur faire découvrir une danse\, nous proposons 3 initiations gratuites ! \nUn grand merci à Monsieur le Maire d’Allauch et à toute l’équipe municipale pour leur soutien et pour nous avoir aidé à organiser cette belle soirée ! \nThéâtre de Nature – Montée Trinière 13190 AllauchParking sur place
URL:https://mambocha.com/event/soiree-salsa-bachata-rock-le-26-07-25/
LOCATION:Théâtre de Nature\, Montée Trinière\, Allauch\, 13190
CATEGORIES:Bachata,Bachata dominicaine,Evénements,Rock,Salsa Cubaine,Salsa Portoricaine,Soirées
ORGANIZER;CN="Ecole Mambocha":MAILTO:info@mambocha.com
END:VEVENT
END:VCALENDAR