BEGIN:VCALENDAR
VERSION:2.0
PRODID:-//Mambocha - ECPv6.15.20//NONSGML v1.0//EN
CALSCALE:GREGORIAN
METHOD:PUBLISH
X-WR-CALNAME:Mambocha
X-ORIGINAL-URL:https://mambocha.com
X-WR-CALDESC:Évènements pour Mambocha
REFRESH-INTERVAL;VALUE=DURATION:PT1H
X-Robots-Tag:noindex
X-PUBLISHED-TTL:PT1H
BEGIN:VTIMEZONE
TZID:Europe/Paris
BEGIN:DAYLIGHT
TZOFFSETFROM:+0100
TZOFFSETTO:+0200
TZNAME:CEST
DTSTART:20240331T010000
END:DAYLIGHT
BEGIN:STANDARD
TZOFFSETFROM:+0200
TZOFFSETTO:+0100
TZNAME:CET
DTSTART:20241027T010000
END:STANDARD
BEGIN:DAYLIGHT
TZOFFSETFROM:+0100
TZOFFSETTO:+0200
TZNAME:CEST
DTSTART:20250330T010000
END:DAYLIGHT
BEGIN:STANDARD
TZOFFSETFROM:+0200
TZOFFSETTO:+0100
TZNAME:CET
DTSTART:20251026T010000
END:STANDARD
BEGIN:DAYLIGHT
TZOFFSETFROM:+0100
TZOFFSETTO:+0200
TZNAME:CEST
DTSTART:20260329T010000
END:DAYLIGHT
BEGIN:STANDARD
TZOFFSETFROM:+0200
TZOFFSETTO:+0100
TZNAME:CET
DTSTART:20261025T010000
END:STANDARD
END:VTIMEZONE
BEGIN:VEVENT
DTSTART;TZID=Europe/Paris:20250906T230000
DTEND;TZID=Europe/Paris:20250907T040000
DTSTAMP:20260420T234644
CREATED:20250829T035355Z
LAST-MODIFIED:20250829T035401Z
UID:257212-1757199600-1757217600@mambocha.com
SUMMARY:Soirée Kizomba Manu Olivia | le 06.09.25
DESCRIPTION:Soirée Kizomba\n20h00 – 21h00 : Cours Kizomba évolutif avec Manu et Olivia.20h30 – 02h00 : Soirée Kizomba avec DJ Antony Tarraxa & DJ Saudade. \nCe samedi 6 Septembre c’est TON samedi 100% Kizomba ! Votre école de danse Mambocha nous dédie son parquet exclusivement pour danser la Kiz 🔥🔥🔥Une édition spéciale pour célébrer le festival Neverending représenté par DJ Antony Tarraxa qui nous vient tout droit de Barcelone ✨A cette occasion\, vous pourrez gagner un pass pour cet événement !Rejoignez-nous pour une soirée inoubliable\, entièrement consacrée à la Kizomba. Que vous soyez un danseur expérimenté ou que vous souhaitiez découvrir cette danse si spéciale pour la première fois\, MIRAGEM\, c’est l’occasion parfaite pour vous imprégner de cette culture qui ne vous quittera plus.Viens danser avec ton partenaire ou explore de nouvelles connexions avec d’autres danseurs passionnés. Tu peux venir aussi bien seul qu’accompagné !Nos professeurs expérimentés vous guideront en vous enseignant les mouvements et les techniques de connexion qui font la beauté de notre danse. \nTarifs soirée avec une conso soft :12 € en tarif normal10 € pour les adhérents Mambocha ou écoles partenaires (Rock’Caliente\, Instant Danse\, Buyanga) 2025/20268 € sur présentation de la carte étudiant \nLieu :Loca’Dance – Galerie marchande de Fontvieille971 Route des 4 Saisons13190 ALLAUCH \nParking gratuit de 150 placesSalle de 200 m² climatisée et avec parquet
URL:https://mambocha.com/event/soiree-kizomba-manu-olivia-le-06-09-25/
LOCATION:Loca Dance\, 971 route des quatre saisons\, Allauch\, 13190\, France
CATEGORIES:Evénements,Kizomba,Soirées
ATTACH;FMTTYPE=image/jpeg:https://mambocha.com/wp-content/uploads/2025/08/SoireeKiz25-09-06-FB.jpg
ORGANIZER;CN="Ecole Mambocha":MAILTO:info@mambocha.com
END:VEVENT
BEGIN:VEVENT
DTSTART;TZID=Europe/Paris:20250912T223000
DTEND;TZID=Europe/Paris:20250913T040000
DTSTAMP:20260420T234644
CREATED:20250829T040107Z
LAST-MODIFIED:20250829T040113Z
UID:257217-1757716200-1757736000@mambocha.com
SUMMARY:Soirée Salsa DJ Yonko – Chris & Mélanie | le 12.09.25
DESCRIPTION:Soirée Salsa\n20h30 – 21h30 : Cours Salsa avec Chris & Mélanie.21h30 – 02h00 : Soirée Salsa avec DJ Yonko. \nTarifs soirée avec une conso soft :12 € en tarif normal10 € pour les adhérents Mambocha ou écoles partenaires (Rock’Caliente\, Instant Danse\, Buyanga) 2025/20268 € sur présentation de la carte étudiant \nLieu :Loca’Dance – Galerie marchande de Fontvieille971 Route des 4 Saisons13190 ALLAUCH \nParking gratuit de 150 placesSalle de 200 m² climatisée et avec parquet
URL:https://mambocha.com/event/soiree-salsa-dj-yonko-chris-melanie-le-12-09-25/
LOCATION:Loca Dance\, 971 route des quatre saisons\, Allauch\, 13190\, France
CATEGORIES:Salsa Cubaine,Salsa Portoricaine,Soirées
ATTACH;FMTTYPE=image/jpeg:https://mambocha.com/wp-content/uploads/2025/08/2025-09-12-SoireeSalsa.jpg
END:VEVENT
BEGIN:VEVENT
DTSTART;TZID=Europe/Paris:20250920T223000
DTEND;TZID=Europe/Paris:20250921T040000
DTSTAMP:20260420T234644
CREATED:20250829T114128Z
LAST-MODIFIED:20250829T114133Z
UID:257222-1758407400-1758427200@mambocha.com
SUMMARY:Soirée Bachata DJ Bryan – Estelle Ramos | le 20.09.25
DESCRIPTION:Soirée Bachata\n20h30 – 21h30 : Cours initiation à la Bachata Dominicaine avec Estelle Ramos.21h30 – 02h00 : Soirée Bachata & Bachata Dominicaine avec DJ Bryan. \nTarifs soirée avec une conso soft :12 € en tarif normal10 € pour les adhérents Mambocha ou écoles partenaires (Rock’Caliente\, Instant Danse\, Buyanga) 2025/20268 € sur présentation de la carte étudiant \nLieu :Loca’Dance – Galerie marchande de Fontvieille971 Route des 4 Saisons13190 ALLAUCH \nParking gratuit de 150 placesSalle de 200 m² climatisée et avec parquet
URL:https://mambocha.com/event/soiree-bachata-dj-bryan-estelle-ramos-le-20-09-25/
LOCATION:Loca Dance\, 971 route des quatre saisons\, Allauch\, 13190\, France
CATEGORIES:Bachata,Bachata dominicaine,Soirées
ATTACH;FMTTYPE=image/jpeg:https://mambocha.com/wp-content/uploads/2025/08/2025-09-20-SoireeBachata.jpg
END:VEVENT
BEGIN:VEVENT
DTSTART;TZID=Europe/Paris:20250921T180000
DTEND;TZID=Europe/Paris:20250921T220000
DTSTAMP:20260420T234644
CREATED:20250829T114941Z
LAST-MODIFIED:20251022T051130Z
UID:257231-1758477600-1758492000@mambocha.com
SUMMARY:Milonga avec Cendrine et Maurice | 21.09.2025
DESCRIPTION:MILONGA A LOCA’DANCE AVEC DMM TANGO\nMaurice et Cendrine vous attendent nombreux le dimanche 21 septembre. \nA partir de 16h00\, ils auront le plaisir de vous proposer des musiques de l’âge d’or du tango au tango nuevo – cortinas dansantes – Tout ceci dans une magnifique salle avec parquet et toujours dans une convivialité et la bonne humeur. Boissons softs offertes – Auberges espagnoles \nProgramme :16h00 à 20h00 : Après-midi dansant\, milonga. \nTarifs :7 € par personne5 € pour tous les élèves de DMM Tango et Mambocha– Auberge espagnole– Boissons softs offertes \nContact :Cendrine : 06 77 57 68 19mail: resa.dmm.tango@gmail.comFacebook: Cendrine NicolettiWeb: https://dmm-tangoargentin.jimdofree.com/ \nLieu :Loca’Dance – Galerie marchande de Fontvieille971 Route des 4 Saisons – 13190 ALLAUCHParking gratuit de 150 placesSalle de 200 m² climatisée et avec parquet
URL:https://mambocha.com/event/milonga-avec-cendrine-et-maurice-21-09-2025/
LOCATION:Loca Dance\, 971 route des quatre saisons\, Allauch\, 13190\, France
CATEGORIES:Après-midi,Soirées,Tango Argentin
ATTACH;FMTTYPE=image/jpeg:https://mambocha.com/wp-content/uploads/2025/08/2025-09-21-Milonga.jpg
END:VEVENT
BEGIN:VEVENT
DTSTART;TZID=Europe/Paris:20250926T223000
DTEND;TZID=Europe/Paris:20250927T040000
DTSTAMP:20260420T234644
CREATED:20250829T115322Z
LAST-MODIFIED:20250829T115328Z
UID:257236-1758925800-1758945600@mambocha.com
SUMMARY:Soirée Rock – Audrey & Nico | le 26.09.25
DESCRIPTION:Soirée Rock\n20h30 – 21h30 : Cours rock débutant évolutif avec Audrey & Nico21h30 – 02h00 : Soirée Rock avec DJ Audrey \nTarifs soirée avec une conso soft :12 € en tarif normal10€ pour les adhérents Mambocha 2025/2026 et partenaires (Rock Caliente\, Instant Danse)8 € sur présentation de la carte étudiant \nLieu :Loca’Dance – Galerie marchande de Fontvieille971 Route des 4 Saisons13190 ALLAUCH \nParking gratuit de 150 placesSalle de 200 m² climatisée et avec parquet
URL:https://mambocha.com/event/soiree-rock-audrey-nico-le-26-09-25/
LOCATION:Loca Dance\, 971 route des quatre saisons\, Allauch\, 13190\, France
CATEGORIES:Evénements,Rock,Soirées
ATTACH;FMTTYPE=image/jpeg:https://mambocha.com/wp-content/uploads/2025/08/2025-09-26-SoireeRock-1.jpg
ORGANIZER;CN="Ecole Mambocha":MAILTO:info@mambocha.com
END:VEVENT
BEGIN:VEVENT
DTSTART;TZID=Europe/Paris:20250927T223000
DTEND;TZID=Europe/Paris:20250928T040000
DTSTAMP:20260420T234644
CREATED:20250829T115549Z
LAST-MODIFIED:20250919T134143Z
UID:257241-1759012200-1759032000@mambocha.com
SUMMARY:Soirée Salsa Bachata DJ Zek – Léa & Romain | le 27.09.25
DESCRIPTION:Soirée Salsa Bachata\n20h30 – 21h30 : Cours évolutif de Bachata avec Léa & Romain.21h30 – 02h00 : Soirée Salsa Bachata avec DJ Zek. \nTarifs soirée avec une conso soft :12 € en tarif normal10 € pour les adhérents Mambocha ou écoles partenaires (Rock’Caliente\, Instant Danse\, Buyanga) 2025/20268 € sur présentation de la carte étudiant \nLieu :Loca’Dance – Galerie marchande de Fontvieille971 Route des 4 Saisons13190 ALLAUCH \nParking gratuit de 150 placesSalle de 200 m² climatisée et avec parquet
URL:https://mambocha.com/event/soiree-salsa-bachata-dj-zek-lea-romain-le-27-09-25/
LOCATION:Loca Dance\, 971 route des quatre saisons\, Allauch\, 13190\, France
CATEGORIES:Bachata,Bachata dominicaine,Evénements,Salsa Cubaine,Salsa Portoricaine,Soirées
ATTACH;FMTTYPE=image/jpeg:https://mambocha.com/wp-content/uploads/2025/08/2025-09-27-SoireeSB.jpg
ORGANIZER;CN="Ecole Mambocha":MAILTO:info@mambocha.com
END:VEVENT
END:VCALENDAR