BEGIN:VCALENDAR
VERSION:2.0
PRODID:-//Mambocha - ECPv6.15.20//NONSGML v1.0//EN
CALSCALE:GREGORIAN
METHOD:PUBLISH
X-WR-CALNAME:Mambocha
X-ORIGINAL-URL:https://mambocha.com
X-WR-CALDESC:Évènements pour Mambocha
REFRESH-INTERVAL;VALUE=DURATION:PT1H
X-Robots-Tag:noindex
X-PUBLISHED-TTL:PT1H
BEGIN:VTIMEZONE
TZID:Europe/Paris
BEGIN:DAYLIGHT
TZOFFSETFROM:+0100
TZOFFSETTO:+0200
TZNAME:CEST
DTSTART:20250330T010000
END:DAYLIGHT
BEGIN:STANDARD
TZOFFSETFROM:+0200
TZOFFSETTO:+0100
TZNAME:CET
DTSTART:20251026T010000
END:STANDARD
BEGIN:DAYLIGHT
TZOFFSETFROM:+0100
TZOFFSETTO:+0200
TZNAME:CEST
DTSTART:20260329T010000
END:DAYLIGHT
BEGIN:STANDARD
TZOFFSETFROM:+0200
TZOFFSETTO:+0100
TZNAME:CET
DTSTART:20261025T010000
END:STANDARD
BEGIN:DAYLIGHT
TZOFFSETFROM:+0100
TZOFFSETTO:+0200
TZNAME:CEST
DTSTART:20270328T010000
END:DAYLIGHT
BEGIN:STANDARD
TZOFFSETFROM:+0200
TZOFFSETTO:+0100
TZNAME:CET
DTSTART:20271031T010000
END:STANDARD
END:VTIMEZONE
BEGIN:VEVENT
DTSTART;TZID=Europe/Paris:20260214T213000
DTEND;TZID=Europe/Paris:20260215T030000
DTSTAMP:20260420T144908
CREATED:20251113T131745Z
LAST-MODIFIED:20260128T091312Z
UID:257691-1771104600-1771124400@mambocha.com
SUMMARY:Soirée Salsa Bachata Kizomba | le 14.02.26
DESCRIPTION:Soirée Salsa Bachata Kizomba\n20h30 – 21h30 : Cours Bachata avec Léa & Romain21h30 – 02h00 : Soirée Salsa Bachata Kizomba \nTarifs soirée avec une conso soft :12 € en tarif normal10 € pour les adhérents Mambocha ou écoles partenaires (Rock’Caliente\, Instant Danse\, Buyanga) 2025/20268 € sur présentation de la carte étudiant \nLieu :Loca’Dance – Galerie marchande de Fontvieille971 Route des 4 Saisons13190 ALLAUCH \nParking gratuit de 150 placesSalle de 200 m² climatisée et avec parquet \nProchaines dates :Samedi 14 mars 2026Samedi 18 avril 2026Samedi 9 mai 2026Vendredi 5 juin 2026
URL:https://mambocha.com/event/soiree-salsa-bachata-le-14-02-26/
LOCATION:Loca Dance\, 971 route des quatre saisons\, Allauch\, 13190\, France
CATEGORIES:Bachata,Bachata dominicaine,Evénements,Kizomba,Salsa Cubaine,Salsa Portoricaine,Soirées
ATTACH;FMTTYPE=image/jpeg:https://mambocha.com/wp-content/uploads/2025/11/2026-02-14-SBk.jpg
ORGANIZER;CN="Ecole Mambocha":MAILTO:info@mambocha.com
END:VEVENT
BEGIN:VEVENT
DTSTART;TZID=Europe/Paris:20260215T170000
DTEND;TZID=Europe/Paris:20260215T210000
DTSTAMP:20260420T144908
CREATED:20251106T205104Z
LAST-MODIFIED:20260124T141530Z
UID:257527-1771174800-1771189200@mambocha.com
SUMMARY:Milonga avec Cendrine et Maurice | 15.02.2026
DESCRIPTION:MILONGA A LOCA’DANCE AVEC DMM TANGO\nMaurice et Cendrine vous attendent nombreux le dimanche 15 février. \nA partir de 16h00\, ils auront le plaisir de vous proposer des musiques de l’âge d’or du tango au tango nuevo – cortinas dansantes – Tout ceci dans une magnifique salle avec parquet et toujours dans une convivialité et la bonne humeur. Boissons softs offertes – Auberges espagnoles \nProgramme :16h00 à 20h00 : Après-midi dansant\, milonga. \nTarifs :7 € par personne5 € pour tous les élèves de DMM Tango et Mambocha– Auberge espagnole– Boissons softs offertes \nContact :Cendrine : 06 77 57 68 19mail: resa.dmm.tango@gmail.comFacebook: Cendrine NicolettiWeb: https://dmm-tangoargentin.jimdofree.com/ \nLieu :Loca’Dance – Galerie marchande de Fontvieille971 Route des 4 Saisons – 13190 ALLAUCHParking gratuit de 150 placesSalle de 200 m² climatisée et avec parquet \nProchaines dates :Dimanche 15 mars 2026Dimanche 19 avril 2026Dimanche 17 mai 2026Dimanche 21 juin 2026
URL:https://mambocha.com/event/milonga-avec-cendrine-et-maurice-15-02-2026/
LOCATION:Loca Dance\, 971 route des quatre saisons\, Allauch\, 13190\, France
CATEGORIES:Après-midi,Soirées,Tango Argentin
ATTACH;FMTTYPE=image/jpeg:https://mambocha.com/wp-content/uploads/2025/11/2026-02-15-Milonga.jpg
END:VEVENT
BEGIN:VEVENT
DTSTART;TZID=Europe/Paris:20260220T213000
DTEND;TZID=Europe/Paris:20260221T030000
DTSTAMP:20260420T144908
CREATED:20251113T130056Z
LAST-MODIFIED:20260124T142523Z
UID:257671-1771623000-1771642800@mambocha.com
SUMMARY:Soirée Salsa | le 20.02.26
DESCRIPTION:Soirée Salsa\n20h30 – 21h30 : Cours Salsa avec Nawel & Nico21h30 – 02h00 : Soirée Salsa \nTarifs soirée avec une conso soft :12 € en tarif normal10 € pour les adhérents Mambocha ou écoles partenaires (Rock’Caliente\, Instant Danse\, Buyanga) 2025/20268 € sur présentation de la carte étudiant \nLieu :Loca’Dance – Galerie marchande de Fontvieille971 Route des 4 Saisons13190 ALLAUCH \nParking gratuit de 150 placesSalle de 200 m² climatisée et avec parquet \nProchaines dates : Vendredi 24 avril 2026Samedi 23 mai 2026Samedi 27 juin 2026
URL:https://mambocha.com/event/soiree-salsa-le-20-02-26/
LOCATION:Loca Dance\, 971 route des quatre saisons\, Allauch\, 13190\, France
CATEGORIES:Salsa Cubaine,Salsa Portoricaine,Soirées
ATTACH;FMTTYPE=image/jpeg:https://mambocha.com/wp-content/uploads/2025/11/2026-02-20-Salsa.jpg
END:VEVENT
BEGIN:VEVENT
DTSTART;TZID=Europe/Paris:20260228T213000
DTEND;TZID=Europe/Paris:20260301T030000
DTSTAMP:20260420T144908
CREATED:20251113T115511Z
LAST-MODIFIED:20260124T143149Z
UID:257577-1772314200-1772334000@mambocha.com
SUMMARY:Soirée Rock – Lise & Hugo DJ Audrey| le 28.02.26
DESCRIPTION:Soirée Rock\n20h30 – 21h30 : Cours rock débutant évolutif avec Lise & Hugo.21h30 – 02h00 : Soirée Rock avec DJ Audrey \nTarifs soirée avec une conso soft :12 € en tarif normal10€ pour les adhérents Mambocha 2025/2026 et partenaires (Rock Caliente\, Instant Danse)8 € sur présentation de la carte étudiant \nLieu :Loca’Dance – Galerie marchande de Fontvieille971 Route des 4 Saisons13190 ALLAUCH \nParking gratuit de 150 placesSalle de 200 m² climatisée et avec parquet \nProchaines dates : \nSamedi 21 mars 2026Samedi 25 avril 2026Vendredi 8 mai 2026Samedi 20 juin 2026
URL:https://mambocha.com/event/soiree-lise-hugo-audrey-le-28-02-26/
LOCATION:Loca Dance\, 971 route des quatre saisons\, Allauch\, 13190\, France
CATEGORIES:Evénements,Rock,Soirées
ATTACH;FMTTYPE=image/jpeg:https://mambocha.com/wp-content/uploads/2025/11/2026-02-28-Rock.jpg
ORGANIZER;CN="Ecole Mambocha":MAILTO:info@mambocha.com
END:VEVENT
END:VCALENDAR