BEGIN:VCALENDAR
VERSION:2.0
PRODID:-//Mambocha - ECPv6.15.20//NONSGML v1.0//EN
CALSCALE:GREGORIAN
METHOD:PUBLISH
X-WR-CALNAME:Mambocha
X-ORIGINAL-URL:https://mambocha.com
X-WR-CALDESC:Évènements pour Mambocha
REFRESH-INTERVAL;VALUE=DURATION:PT1H
X-Robots-Tag:noindex
X-PUBLISHED-TTL:PT1H
BEGIN:VTIMEZONE
TZID:Europe/Paris
BEGIN:DAYLIGHT
TZOFFSETFROM:+0100
TZOFFSETTO:+0200
TZNAME:CEST
DTSTART:20250330T010000
END:DAYLIGHT
BEGIN:STANDARD
TZOFFSETFROM:+0200
TZOFFSETTO:+0100
TZNAME:CET
DTSTART:20251026T010000
END:STANDARD
BEGIN:DAYLIGHT
TZOFFSETFROM:+0100
TZOFFSETTO:+0200
TZNAME:CEST
DTSTART:20260329T010000
END:DAYLIGHT
BEGIN:STANDARD
TZOFFSETFROM:+0200
TZOFFSETTO:+0100
TZNAME:CET
DTSTART:20261025T010000
END:STANDARD
BEGIN:DAYLIGHT
TZOFFSETFROM:+0100
TZOFFSETTO:+0200
TZNAME:CEST
DTSTART:20270328T010000
END:DAYLIGHT
BEGIN:STANDARD
TZOFFSETFROM:+0200
TZOFFSETTO:+0100
TZNAME:CET
DTSTART:20271031T010000
END:STANDARD
END:VTIMEZONE
BEGIN:VEVENT
DTSTART;TZID=Europe/Paris:20260307T203000
DTEND;TZID=Europe/Paris:20260308T030000
DTSTAMP:20260420T131732
CREATED:20251113T124927Z
LAST-MODIFIED:20260306T115703Z
UID:257651-1772915400-1772938800@mambocha.com
SUMMARY:Soirée Kizomba Manu Olivia + Stage Jesus & Anni | le 07.03.26
DESCRIPTION:Soirée 100% Kizomba + StageSamedi 7 mars\n\nCe samedi 7 Mars c’est TON samedi 100% Kizomba !Votre école de danse Mambocha nous dédie son parquet exclusivement pour danser la Kiz\n Nous recevons ce mois-ci JESUS e ANNI !Ils ont tout d’abord séduit l’Espagne\, puis le monde. Un style unique et une élégance affirmée.C’est un stage exceptionnel qui vous attend ce samedi 7 Mars !!\n A leurs côtés\, vous retrouverez OLIVIA & MANU qui déploient toutes leurs énergies pour participer à l’évolution et à la progression de la Kizomba dans notre région.\nLors de ce stage\, vous pourrez vous amuser\, apprendre\, et vous épanouir grâce la pédagogie et la simplicité des intervenants \n Pour la soirée\, vous retrouverez sur deux salles\, un espace urban kiz et fusion ainsi qu’un espace kizomba et semba Aux platines\, il vient de Paris\, c’est Puto X\, Dj\, chanteur et beatmaker\, on peut dire qu’il a toutes les cartes pour vous faire vibrer !Accompagné par DJ MO et DJ SAUDADE\, il semblerait que cette soirée sera inoubliable !\n \n   PROGRAMME   \n19h30 / 20h00 – Inscriptions\n20h00 / 22h00 – Stage intensif kizomba fusion avec Jesus et Anni\n22h00 / 04h00 – soirée mixée par DJ MO & DJ SAUDADE & DJ PUTO X sur 2 salles 2 ambiances.\nEn espérant que ce beau programme vous fasse plaisir !\n \n   TARIFS   Les différentes formules :\n Solo : Stage de 2h + Soirée = 60e\n Couple\, leader + follower : Stage de 2h + Soirée = 110e\n Soirée : Entrée pour la soirée sur deux salles et votre boisson : 15e\nVos pass sont disponibles à la réservation sur ce lien :https://urlr.me/NchEkP\n Aucun remboursement ne sera possible en cas d’annulation. Il n’y aura pas de cours de soirée. Uniquement un stage. Pour réserver votre place au stage\, veuillez vous inscrire sur ce lien.\n \n Adresse :Mambocha 971 route des 4 saisons 13190 – Allauch\n\nParking gratuit de 150 placesSalle de 200 m² climatisée et avec parquet \nProchaines dates : Samedi 4 avril 2026Samedi 2 mai 2026
URL:https://mambocha.com/event/soiree-kizomba-manu-olivia-le-07-03-26/
LOCATION:Loca Dance\, 971 route des quatre saisons\, Allauch\, 13190\, France
CATEGORIES:Evénements,Kizomba,Soirées
ATTACH;FMTTYPE=image/jpeg:https://mambocha.com/wp-content/uploads/2025/11/2026-03-07-Kizomba-small.jpg
ORGANIZER;CN="Ecole Mambocha":MAILTO:info@mambocha.com
END:VEVENT
BEGIN:VEVENT
DTSTART;TZID=Europe/Paris:20260314T213000
DTEND;TZID=Europe/Paris:20260315T030000
DTSTAMP:20260420T131732
CREATED:20251113T131852Z
LAST-MODIFIED:20260306T115928Z
UID:257693-1773523800-1773543600@mambocha.com
SUMMARY:Soirée Salsa Bachata | le 14.03.26
DESCRIPTION:Soirée Salsa BachataSamedi 14 mars\n20h30 – 21h30 : Cours de Bachata évolutif avec Greg et Aurélie21h30 – 02h00 : Soirée Salsa Bachata avec DJ Nawax \nTarifs soirée avec une conso soft :12 € en tarif normal10 € pour les adhérents Mambocha ou écoles partenaires (Rock’Caliente\, Instant Danse\, Buyanga) 2025/20268 € sur présentation de la carte étudiant \nLieu :Loca’Dance – Galerie marchande de Fontvieille971 Route des 4 Saisons13190 ALLAUCH \nParking gratuit de 150 placesSalle de 200 m² climatisée et avec parquet \nProchaines dates :Samedi 18 avril 2026Samedi 9 mai 2026Vendredi 5 juin 2026
URL:https://mambocha.com/event/soiree-salsa-bachata-le-14-03-26/
LOCATION:Loca Dance\, 971 route des quatre saisons\, Allauch\, 13190\, France
CATEGORIES:Bachata,Bachata dominicaine,Evénements,Salsa Cubaine,Salsa Portoricaine,Soirées
ATTACH;FMTTYPE=image/jpeg:https://mambocha.com/wp-content/uploads/2025/11/5.jpg
ORGANIZER;CN="Ecole Mambocha":MAILTO:info@mambocha.com
END:VEVENT
BEGIN:VEVENT
DTSTART;TZID=Europe/Paris:20260315T170000
DTEND;TZID=Europe/Paris:20260315T210000
DTSTAMP:20260420T131732
CREATED:20251106T205239Z
LAST-MODIFIED:20260227T091409Z
UID:257530-1773594000-1773608400@mambocha.com
SUMMARY:Milonga avec Cendrine et Maurice | 15.03.2026
DESCRIPTION:MILONGA A LOCA’DANCE AVEC DMM TANGODimanche 15 mars\nMaurice et Cendrine vous attendent nombreux le dimanche 15 mars. \nA partir de 16h00\, ils auront le plaisir de vous proposer des musiques de l’âge d’or du tango au tango nuevo – cortinas dansantes – Tout ceci dans une magnifique salle avec parquet et toujours dans une convivialité et la bonne humeur. Boissons softs offertes – Auberges espagnoles \nProgramme :16h00 à 20h00 : Après-midi dansant\, milonga. \nTarifs :7 € par personne5 € pour tous les élèves de DMM Tango et Mambocha– Auberge espagnole– Boissons softs offertes \nContact :Cendrine : 06 77 57 68 19mail: resa.dmm.tango@gmail.comFacebook: Cendrine NicolettiWeb: https://dmm-tangoargentin.jimdofree.com/ \nLieu :Loca’Dance – Galerie marchande de Fontvieille971 Route des 4 Saisons – 13190 ALLAUCHParking gratuit de 150 placesSalle de 200 m² climatisée et avec parquet \nProchaines dates :Dimanche 19 avril 2026Dimanche 17 mai 2026Dimanche 21 juin 2026
URL:https://mambocha.com/event/milonga-avec-cendrine-et-maurice-15-03-2026/
LOCATION:Loca Dance\, 971 route des quatre saisons\, Allauch\, 13190\, France
CATEGORIES:Après-midi,Soirées,Tango Argentin
ATTACH;FMTTYPE=image/jpeg:https://mambocha.com/wp-content/uploads/2025/11/6.jpg
END:VEVENT
BEGIN:VEVENT
DTSTART;TZID=Europe/Paris:20260321T213000
DTEND;TZID=Europe/Paris:20260322T030000
DTSTAMP:20260420T131732
CREATED:20251113T115622Z
LAST-MODIFIED:20260227T091522Z
UID:257579-1774128600-1774148400@mambocha.com
SUMMARY:Soirée Rock – Audrey & Nico | le 21.03.26
DESCRIPTION:Soirée RockSamedi 21 mars\n20h30 – 21h30 : Cours rock débutant évolutif avec Audrey & Nico.21h30 – 02h00 : Soirée Rock avec DJ Audrey \nTarifs soirée avec une conso soft :12 € en tarif normal10€ pour les adhérents Mambocha 2025/2026 et partenaires (Rock Caliente\, Instant Danse)8 € sur présentation de la carte étudiant \nLieu :Loca’Dance – Galerie marchande de Fontvieille971 Route des 4 Saisons13190 ALLAUCH \nParking gratuit de 150 placesSalle de 200 m² climatisée et avec parquet \nProchaines dates : \nSamedi 25 avril 2026Vendredi 8 mai 2026Samedi 20 juin 2026
URL:https://mambocha.com/event/soiree-rock-audrey-nico-le-21-03-26/
LOCATION:Loca Dance\, 971 route des quatre saisons\, Allauch\, 13190\, France
CATEGORIES:Evénements,Rock,Soirées
ATTACH;FMTTYPE=image/jpeg:https://mambocha.com/wp-content/uploads/2025/11/7.jpg
ORGANIZER;CN="Ecole Mambocha":MAILTO:info@mambocha.com
END:VEVENT
END:VCALENDAR