BEGIN:VCALENDAR
VERSION:2.0
PRODID:-//Mambocha - ECPv6.15.20//NONSGML v1.0//EN
CALSCALE:GREGORIAN
METHOD:PUBLISH
X-ORIGINAL-URL:https://mambocha.com
X-WR-CALDESC:Évènements pour Mambocha
REFRESH-INTERVAL;VALUE=DURATION:PT1H
X-Robots-Tag:noindex
X-PUBLISHED-TTL:PT1H
BEGIN:VTIMEZONE
TZID:Europe/Paris
BEGIN:DAYLIGHT
TZOFFSETFROM:+0100
TZOFFSETTO:+0200
TZNAME:CEST
DTSTART:20240331T010000
END:DAYLIGHT
BEGIN:STANDARD
TZOFFSETFROM:+0200
TZOFFSETTO:+0100
TZNAME:CET
DTSTART:20241027T010000
END:STANDARD
BEGIN:DAYLIGHT
TZOFFSETFROM:+0100
TZOFFSETTO:+0200
TZNAME:CEST
DTSTART:20250330T010000
END:DAYLIGHT
BEGIN:STANDARD
TZOFFSETFROM:+0200
TZOFFSETTO:+0100
TZNAME:CET
DTSTART:20251026T010000
END:STANDARD
BEGIN:DAYLIGHT
TZOFFSETFROM:+0100
TZOFFSETTO:+0200
TZNAME:CEST
DTSTART:20260329T010000
END:DAYLIGHT
BEGIN:STANDARD
TZOFFSETFROM:+0200
TZOFFSETTO:+0100
TZNAME:CET
DTSTART:20261025T010000
END:STANDARD
END:VTIMEZONE
BEGIN:VEVENT
DTSTART;TZID=Europe/Paris:20250906T120000
DTEND;TZID=Europe/Paris:20250906T200000
DTSTAMP:20260422T205834
CREATED:20250715T110206Z
LAST-MODIFIED:20250715T110512Z
UID:257055-1757160000-1757188800@mambocha.com
SUMMARY:Mambocha à la journée des associations d'Allauch
DESCRIPTION:🗓 Samedi 6 septembre 2025 – Journée des Associations\n📍 Complexe sportif Jacques Gaillard – Pie d’Autry\, Allauch🕙 De 10h à 18h \nOrganisée par la mairie d’Allauch\, cette journée est l’occasion parfaite pour venir à notre rencontre ! \n👉 Venez découvrir l’association Mambocha\, poser vos questions\, rencontrer les professeurs et en savoir plus sur les danses que nous proposons. \n🎁 Offre spéciale rentrée :\nL’adhésion de 25€ est offerte pour toute inscription annuelle complète (dossier + règlement) réalisée jusqu’au 7 septembre inclus.⚠️ Offre valable uniquement pour les inscriptions définitives à un ou plusieurs cours (annuels ou accélérés).Les personnes inscrites uniquement à des cours d’essai gratuits devront s’acquitter de l’adhésion à partir du 9 septembre. \n\n📆 À noter :\n\n\nTous les cours démarrent la semaine du 8 septembre 2025. \n\n\nLes essais sont gratuits\, mais l’inscription est obligatoire (les places sont limitées). \n\n\nConsultez dès maintenant notre planning\, nos tarifs\, et réservez vos cours en ligne ! \n\n\n👥 Les inscriptions à l’année sont prioritaires en cas de cours complet. \n\n💳 Moyens de paiement acceptés :\n\n\nPrélèvements automatiques \n\n\nCarte bancaire \n\n\nChèques \n\n\nEspèces \n\n\nANCV (chèques vacances) \n\n\nCoupons Sport \n\n\nCarte Collégien (jusqu’à 100€) \n\n\n✅ Facilités de paiement jusqu’à 9 fois. \n\nOn a hâte de vous rencontrer et de partager une nouvelle année pleine d’énergie et de danse ! 💃🕺À très bientôt !L’équipe Mambocha
URL:https://mambocha.com/event/mambocha-a-la-journee-des-associations-dallauch/
CATEGORIES:Bachata,Bachata dominicaine,Danses de salon,Info école,Info professeurs,Kizomba,Lady Styling,Lindy,Rock,Salsa Cubaine,Salsa Portoricaine,Tango Argentin
ATTACH;FMTTYPE=image/jpeg:https://mambocha.com/wp-content/uploads/2025/07/cover-general-min-scaled.jpg
END:VEVENT
BEGIN:VEVENT
DTSTART;TZID=Europe/Paris:20250907T160000
DTEND;TZID=Europe/Paris:20250907T200000
DTSTAMP:20260422T205834
CREATED:20250715T110327Z
LAST-MODIFIED:20250806T094344Z
UID:257058-1757260800-1757275200@mambocha.com
SUMMARY:Portes ouvertes Mambocha 2025
DESCRIPTION:🗓 Dimanche 7 septembre 2025 – Portes Ouvertes\n📍 Loca’Dance – 971 route des 4 Saisons\, Galerie Marchande de Fontvieille\, 13190 Allauch🕓 De 14h à 18h \nDécouvrez notre école de danse dans un cadre idéal :🏢 3 studios parquetés\, climatisés\, 400 m² de surface🚗 Parking gratuit de 150 places juste devant \nEntrez\, regardez et laissez vous séduire : 20 minutes de démonstrations suffisent pour découvrir toutes les danses que nous vous proposons ! \nNos professeurs seront là pour vous présenter chaque style de danse. Vous pourrez assister à des démonstrations\, poser toutes vos questions et vous inscrire aux cours d’essai ou directement à l’année.Notre équipe de bénévoles sera également présente pour vous accompagner dans vos démarches. \n🎁 Offre spéciale rentrée :\nL’adhésion de 25€ est offerte pour toute inscription annuelle complète (dossier + règlement) réalisée jusqu’au 7 septembre inclus.⚠️ Offre valable uniquement pour les inscriptions définitives à un ou plusieurs cours (annuels ou accélérés).Les personnes inscrites uniquement à des cours d’essai gratuits devront s’acquitter de l’adhésion à partir du 9 septembre. \n\n📆 À noter :\n\n\nTous les cours démarrent la semaine du 8 septembre 2025. \n\n\nLes essais sont gratuits\, mais l’inscription est obligatoire (les places sont limitées). \n\n\nConsultez dès maintenant notre planning\, nos tarifs\, et réservez vos cours en ligne ! \n\n\n👥 Les inscriptions à l’année sont prioritaires en cas de cours complet. \n\n💳 Moyens de paiement acceptés :\n\n\nPrélèvements automatiques \n\n\nCarte bancaire \n\n\nChèques \n\n\nEspèces \n\n\nANCV (chèques vacances) \n\n\nCoupons Sport \n\n\nCarte Collégien (jusqu’à 100€) \n\n\n✅ Facilités de paiement jusqu’à 9 fois. \n\nOn a hâte de vous rencontrer et de partager une nouvelle année pleine d’énergie et de danse ! 💃🕺À très bientôt !L’équipe Mambocha
URL:https://mambocha.com/event/portes-ouvertes-mambocha-2025/
CATEGORIES:Bachata,Bachata dominicaine,Danses de salon,Info école,Info professeurs,Kizomba,Lady Styling,Lindy,Rock,Salsa Cubaine,Salsa Portoricaine,Tango Argentin
ATTACH;FMTTYPE=image/jpeg:https://mambocha.com/wp-content/uploads/2025/07/cover-general-min-scaled.jpg
END:VEVENT
BEGIN:VEVENT
DTSTART;TZID=Europe/Paris:20250921T180000
DTEND;TZID=Europe/Paris:20250921T220000
DTSTAMP:20260422T205834
CREATED:20250829T114941Z
LAST-MODIFIED:20251022T051130Z
UID:257231-1758477600-1758492000@mambocha.com
SUMMARY:Milonga avec Cendrine et Maurice | 21.09.2025
DESCRIPTION:MILONGA A LOCA’DANCE AVEC DMM TANGO\nMaurice et Cendrine vous attendent nombreux le dimanche 21 septembre. \nA partir de 16h00\, ils auront le plaisir de vous proposer des musiques de l’âge d’or du tango au tango nuevo – cortinas dansantes – Tout ceci dans une magnifique salle avec parquet et toujours dans une convivialité et la bonne humeur. Boissons softs offertes – Auberges espagnoles \nProgramme :16h00 à 20h00 : Après-midi dansant\, milonga. \nTarifs :7 € par personne5 € pour tous les élèves de DMM Tango et Mambocha– Auberge espagnole– Boissons softs offertes \nContact :Cendrine : 06 77 57 68 19mail: resa.dmm.tango@gmail.comFacebook: Cendrine NicolettiWeb: https://dmm-tangoargentin.jimdofree.com/ \nLieu :Loca’Dance – Galerie marchande de Fontvieille971 Route des 4 Saisons – 13190 ALLAUCHParking gratuit de 150 placesSalle de 200 m² climatisée et avec parquet
URL:https://mambocha.com/event/milonga-avec-cendrine-et-maurice-21-09-2025/
LOCATION:Loca Dance\, 971 route des quatre saisons\, Allauch\, 13190\, France
CATEGORIES:Après-midi,Soirées,Tango Argentin
ATTACH;FMTTYPE=image/jpeg:https://mambocha.com/wp-content/uploads/2025/08/2025-09-21-Milonga.jpg
END:VEVENT
END:VCALENDAR