BEGIN:VCALENDAR
VERSION:2.0
PRODID:-//Mambocha - ECPv6.15.20//NONSGML v1.0//EN
CALSCALE:GREGORIAN
METHOD:PUBLISH
X-WR-CALNAME:Mambocha
X-ORIGINAL-URL:https://mambocha.com
X-WR-CALDESC:Évènements pour Mambocha
REFRESH-INTERVAL;VALUE=DURATION:PT1H
X-Robots-Tag:noindex
X-PUBLISHED-TTL:PT1H
BEGIN:VTIMEZONE
TZID:Europe/Paris
BEGIN:DAYLIGHT
TZOFFSETFROM:+0100
TZOFFSETTO:+0200
TZNAME:CEST
DTSTART:20250330T010000
END:DAYLIGHT
BEGIN:STANDARD
TZOFFSETFROM:+0200
TZOFFSETTO:+0100
TZNAME:CET
DTSTART:20251026T010000
END:STANDARD
BEGIN:DAYLIGHT
TZOFFSETFROM:+0100
TZOFFSETTO:+0200
TZNAME:CEST
DTSTART:20260329T010000
END:DAYLIGHT
BEGIN:STANDARD
TZOFFSETFROM:+0200
TZOFFSETTO:+0100
TZNAME:CET
DTSTART:20261025T010000
END:STANDARD
BEGIN:DAYLIGHT
TZOFFSETFROM:+0100
TZOFFSETTO:+0200
TZNAME:CEST
DTSTART:20270328T010000
END:DAYLIGHT
BEGIN:STANDARD
TZOFFSETFROM:+0200
TZOFFSETTO:+0100
TZNAME:CET
DTSTART:20271031T010000
END:STANDARD
END:VTIMEZONE
BEGIN:VEVENT
DTSTART;TZID=Europe/Paris:20260628T193000
DTEND;TZID=Europe/Paris:20260628T223000
DTSTAMP:20260420T163735
CREATED:20260310T131142Z
LAST-MODIFIED:20260401T235937Z
UID:258277-1782675000-1782685800@mambocha.com
SUMMARY:Gala de chant | le 28.06.26
DESCRIPTION:Gala de chant des élèves de Diane – Thème : Cinéma !\n \nPréparez-vous pour une soirée pleine d’énergie\, d’émotions et de belles surprises !\nLes élèves de Diane montent sur scène pour vous faire voyager à travers les plus grandes musiques du cinéma Venez les encourager et partager un moment convivial et chaleureux avec nous !\n \nDate : Samedi 28 juin 202619h00 : Ouverture des portes19h30 : Début du spectacle\n \nLieu : Loca’Dance971 route des 4 saisonsGalerie marchande de Fontvieille13190 Allauch\n \nTarifs :• 10 € – Tarif normal• 5 € – Tarif réduit (moins de 10 ans)\n \nNous serons ravis de vous accueillir pour cette belle soirée musicale.Invitez vos amis et venez nombreux applaudir nos chanteurs !\n \nÀ très vite !L’équipe Mambocha\nParking gratuit de 150 placesSalle de 200 m² climatisée et avec parquet
URL:https://mambocha.com/event/gala-de-chant-le-28-06-26/
LOCATION:Loca Dance\, 971 route des quatre saisons\, Allauch\, 13190\, France
CATEGORIES:Gala chant
ATTACH;FMTTYPE=image/jpeg:https://mambocha.com/wp-content/uploads/2026/03/2026-Gala-de-chant-1080-x-610-px.jpg
END:VEVENT
BEGIN:VEVENT
DTSTART;TZID=Europe/Paris:20260629T190000
DTEND;TZID=Europe/Paris:20260702T220000
DTSTAMP:20260420T163735
CREATED:20260408T104102Z
LAST-MODIFIED:20260408T190128Z
UID:258503-1782759600-1783029600@mambocha.com
SUMMARY:Stage Salsa & Bachata - Du 29 juin au 2 juillet
DESCRIPTION:Stage de danse Salsa et Bachata avec Greg\n\n\n\n19h00 à 20h30 : Salsa Porto On1 Initiation\n20h30 à 22h00 : Bachata Initiation\n\nTarifs :\n65 € en pré-vente\, avant le vendredi 26 juin à minuit\n75 € pour les ventes au dernier moment
URL:https://mambocha.com/event/stage-salsa-bachata-2906-0207/
LOCATION:Loca Dance\, 971 route des quatre saisons\, Allauch\, 13190\, France
END:VEVENT
END:VCALENDAR